BEGIN:VCALENDAR
VERSION:2.0
PRODID:-//Wine and Palette - ECPv5.16.4//NONSGML v1.0//EN
CALSCALE:GREGORIAN
METHOD:PUBLISH
X-ORIGINAL-URL:https://wineandpalette.com
X-WR-CALDESC:Events for Wine and Palette
REFRESH-INTERVAL;VALUE=DURATION:PT1H
X-Robots-Tag:noindex
X-PUBLISHED-TTL:PT1H
BEGIN:VTIMEZONE
TZID:America/Chicago
BEGIN:DAYLIGHT
TZOFFSETFROM:-0600
TZOFFSETTO:-0500
TZNAME:CDT
DTSTART:20230312T080000
END:DAYLIGHT
BEGIN:STANDARD
TZOFFSETFROM:-0500
TZOFFSETTO:-0600
TZNAME:CST
DTSTART:20231105T070000
END:STANDARD
END:VTIMEZONE
BEGIN:VEVENT
DTSTART;TZID=America/Chicago:20231112T160000
DTEND;TZID=America/Chicago:20231112T180000
DTSTAMP:20260424T071340
CREATED:20231017T202218Z
LAST-MODIFIED:20231018T010347Z
UID:206493-1699804800-1699812000@wineandpalette.com
SUMMARY:Dirty Pour – A Fluid Art Paint Pouring Experience!
DESCRIPTION:Beginners Abstract Dirty Pour Technique in Acrylic on 9×12 wrapped canvas. What’s a Dirty Pour? It’s simply a term for mixing more than one paint color in same container with a magic cell creating ingredient before adding or pouring it onto the canvas. We will have all complimentary colors in paint available with some metallics for a special end effect! Come get bit at The Flea by the painting bug! *MUST BE 21+*. (Photo shows 6 examples\, price is per canvas/person) Coupons/Discounts not valid.
URL:https://wineandpalette.com/event/dirty-pour-16/
LOCATION:The Flea\, 733 NW 4th St\, Oklahoma City\, OK\, 73102
ATTACH;FMTTYPE=image/jpeg:https://wineandpalette.com/content/uploads/2019/06/4727-5.jpg
END:VEVENT
END:VCALENDAR