BEGIN:VCALENDAR
VERSION:2.0
PRODID:-//Wine and Palette - ECPv5.16.4//NONSGML v1.0//EN
CALSCALE:GREGORIAN
METHOD:PUBLISH
X-WR-CALNAME:Wine and Palette
X-ORIGINAL-URL:https://wineandpalette.com
X-WR-CALDESC:Events for Wine and Palette
REFRESH-INTERVAL;VALUE=DURATION:PT1H
X-Robots-Tag:noindex
X-PUBLISHED-TTL:PT1H
BEGIN:VTIMEZONE
TZID:America/Chicago
BEGIN:DAYLIGHT
TZOFFSETFROM:-0600
TZOFFSETTO:-0500
TZNAME:CDT
DTSTART:20230312T080000
END:DAYLIGHT
BEGIN:STANDARD
TZOFFSETFROM:-0500
TZOFFSETTO:-0600
TZNAME:CST
DTSTART:20231105T070000
END:STANDARD
END:VTIMEZONE
BEGIN:VEVENT
DTSTART;TZID=America/Chicago:20231121T183000
DTEND;TZID=America/Chicago:20231121T203000
DTSTAMP:20260423T150315
CREATED:20231018T003700Z
LAST-MODIFIED:20231018T003703Z
UID:206506-1700591400-1700598600@wineandpalette.com
SUMMARY:Winter Cardinal
DESCRIPTION:Othello’s is a family owned Italian restaurant offering casual dining in a family atmosphere. They serve great pasta\, pizza\, & seafood at affordable prices. You have to try the Coconut Cream Pie! Full bar available. Daily menu specials. visit Othellos.us for more info. We will be painting in the bar area.
URL:https://wineandpalette.com/event/winter-cardinal-2/
LOCATION:Othello’s Italian Restaurant\, 434 Buchanan Ave\, Norman\, OK\, 73069
ATTACH;FMTTYPE=image/jpeg:https://wineandpalette.com/content/uploads/2015/11/3871-5.jpg
END:VEVENT
END:VCALENDAR