BEGIN:VCALENDAR
VERSION:2.0
PRODID:-//Wine and Palette - ECPv5.16.4//NONSGML v1.0//EN
CALSCALE:GREGORIAN
METHOD:PUBLISH
X-WR-CALNAME:Wine and Palette
X-ORIGINAL-URL:https://wineandpalette.com
X-WR-CALDESC:Events for Wine and Palette
REFRESH-INTERVAL;VALUE=DURATION:PT1H
X-Robots-Tag:noindex
X-PUBLISHED-TTL:PT1H
BEGIN:VTIMEZONE
TZID:America/Chicago
BEGIN:DAYLIGHT
TZOFFSETFROM:-0600
TZOFFSETTO:-0500
TZNAME:CDT
DTSTART:20230312T080000
END:DAYLIGHT
BEGIN:STANDARD
TZOFFSETFROM:-0500
TZOFFSETTO:-0600
TZNAME:CST
DTSTART:20231105T070000
END:STANDARD
END:VTIMEZONE
BEGIN:VEVENT
DTSTART;TZID=America/Chicago:20231210T140000
DTEND;TZID=America/Chicago:20231210T160000
DTSTAMP:20260423T070640
CREATED:20231117T152232Z
LAST-MODIFIED:20231205T172207Z
UID:207197-1702216800-1702224000@wineandpalette.com
SUMMARY:Ice Blue Snowman
DESCRIPTION:Painting party on the covered patio at Fassler Hall OKC! A German-inspired beer hall located in OKC’s Midtown neighborhood. Enjoy homemade sausage\, German beer and their expansive beer garden. (16×20 wrapped canvas). Please visit fasslerhall.com for more info.
URL:https://wineandpalette.com/event/ice-blue-snowman-4/
LOCATION:Fassler Hall OKC\, 421 NW 10th Street\, Oklahoma City\, OK\, 73103\, United States
ATTACH;FMTTYPE=image/jpeg:https://wineandpalette.com/content/uploads/2015/10/3834-5.jpg
END:VEVENT
END:VCALENDAR