BEGIN:VCALENDAR
VERSION:2.0
PRODID:-//Wine and Palette - ECPv5.16.4//NONSGML v1.0//EN
CALSCALE:GREGORIAN
METHOD:PUBLISH
X-WR-CALNAME:Wine and Palette
X-ORIGINAL-URL:https://wineandpalette.com
X-WR-CALDESC:Events for Wine and Palette
REFRESH-INTERVAL;VALUE=DURATION:PT1H
X-Robots-Tag:noindex
X-PUBLISHED-TTL:PT1H
BEGIN:VTIMEZONE
TZID:America/Chicago
BEGIN:DAYLIGHT
TZOFFSETFROM:-0600
TZOFFSETTO:-0500
TZNAME:CDT
DTSTART:20230312T080000
END:DAYLIGHT
BEGIN:STANDARD
TZOFFSETFROM:-0500
TZOFFSETTO:-0600
TZNAME:CST
DTSTART:20231105T070000
END:STANDARD
END:VTIMEZONE
BEGIN:VEVENT
DTSTART;TZID=America/Chicago:20231212T180000
DTEND;TZID=America/Chicago:20231212T200000
DTSTAMP:20260423T070702
CREATED:20231103T184456Z
LAST-MODIFIED:20231104T001238Z
UID:206872-1702404000-1702411200@wineandpalette.com
SUMMARY:DIY Christmas Ornaments
DESCRIPTION:Christmas Sip & Paint Party at The Flower Shop Winery & Pizzeria in Yukon! Paint & Create a one of a kind Christmas Ornament! Choice of Metal\, Wood\, Glass or Plastic. All supplies to create and design the ornament you choose are included\, with a glass of wine to sip on too! (for those 21+). All will get to create their own designs (all ornament sizes are approx 3.5 to 4″). Extra trimmings include string\, hooks\, bows & bags for finishing touches! We will have some samples for inspiration with artists on hand to assist. Price is per person/ornament. All ages welcome! The Flower Shop Winery offers wine tastings as well as craft beer and pizza. Please visit flowershopwinery.com for more winery info.
URL:https://wineandpalette.com/event/diy-christmas-ornaments-2/
LOCATION:The Flower Shop Winery ~ Yukon\, 629 W Main St\, Yukon\, OK\, 73099
ATTACH;FMTTYPE=image/jpeg:https://wineandpalette.com/content/uploads/2022/10/IMG_3556.jpg
END:VEVENT
END:VCALENDAR