BEGIN:VCALENDAR
VERSION:2.0
PRODID:-//Wine and Palette - ECPv5.16.4//NONSGML v1.0//EN
CALSCALE:GREGORIAN
METHOD:PUBLISH
X-WR-CALNAME:Wine and Palette
X-ORIGINAL-URL:https://wineandpalette.com
X-WR-CALDESC:Events for Wine and Palette
REFRESH-INTERVAL;VALUE=DURATION:PT1H
X-Robots-Tag:noindex
X-PUBLISHED-TTL:PT1H
BEGIN:VTIMEZONE
TZID:America/Chicago
BEGIN:DAYLIGHT
TZOFFSETFROM:-0600
TZOFFSETTO:-0500
TZNAME:CDT
DTSTART:20230312T080000
END:DAYLIGHT
BEGIN:STANDARD
TZOFFSETFROM:-0500
TZOFFSETTO:-0600
TZNAME:CST
DTSTART:20231105T070000
END:STANDARD
END:VTIMEZONE
BEGIN:VEVENT
DTSTART;TZID=America/Chicago:20231216T140000
DTEND;TZID=America/Chicago:20231216T160000
DTSTAMP:20260423T070703
CREATED:20231103T183003Z
LAST-MODIFIED:20231104T014147Z
UID:206868-1702735200-1702742400@wineandpalette.com
SUMMARY:DIY Christmas Ornaments
DESCRIPTION:Saturday Sip & Paint Party at Waters Edge Winery in Moore! Paint & Create a one of a kind Christmas Ornament! Choice of Metal\, Wood\, Glass or Plastic. All supplies to create and design the ornament you choose are included\, with a glass of wine to sip on too! (for those 21+) All will get to create their own designs (all ornament sizes are approx 3.5 to 4″). Extra trimmings include string\, hooks\, bows & bags for finishing touches! We will have some samples for inspiration with artists on hand to assist. Price is per person/ornament. All ages welcome! Waters Edge Winery offers wine tastings as well as wine treats with a delightful Bistro Menu to compliment! Please visit wewmooreok.com for more info.
URL:https://wineandpalette.com/event/diy-christmas-ornaments/
LOCATION:Waters Edge Winery Moore\, 2001 S Broadway Ave Ste C\, Moore\, OK\, 73160\, United States
ATTACH;FMTTYPE=image/jpeg:https://wineandpalette.com/content/uploads/2022/10/IMG_3556.jpg
END:VEVENT
BEGIN:VEVENT
DTSTART;TZID=America/Chicago:20231216T180000
DTEND;TZID=America/Chicago:20231216T200000
DTSTAMP:20260423T070703
CREATED:20231117T035824Z
LAST-MODIFIED:20231216T021513Z
UID:207164-1702749600-1702756800@wineandpalette.com
SUMMARY:Sandy Claws - Date Night
DESCRIPTION:Date Night Class! Choose to paint Jack or Sally \nBill’s Steakhouse and Saloon serves hand cut steaks\, fresh ground burgers\, hand breaded catfish\, hand breaded Chicken Fried Steaks\, and ice cold beer (as well as a full bar)! Happy Hour From 4PM – 9PM $2 Domestic Draft\, $2 Domestic Bottles\, stay after class and take advantage of their half price Appetizers at the bar!! (16×20 wrapped canvas) Price is per person/canvas.
URL:https://wineandpalette.com/event/sandy-claws-date-night/
LOCATION:Bill’s Steakhouse & Saloon\, 1013 SW 89th St\, Oklahoma City\, OK\, 73139
ATTACH;FMTTYPE=image/jpeg:https://wineandpalette.com/content/uploads/2015/11/3865-5.jpg
END:VEVENT
END:VCALENDAR