BEGIN:VCALENDAR
VERSION:2.0
PRODID:-//Wine and Palette - ECPv5.16.4//NONSGML v1.0//EN
CALSCALE:GREGORIAN
METHOD:PUBLISH
X-WR-CALNAME:Wine and Palette
X-ORIGINAL-URL:https://wineandpalette.com
X-WR-CALDESC:Events for Wine and Palette
REFRESH-INTERVAL;VALUE=DURATION:PT1H
X-Robots-Tag:noindex
X-PUBLISHED-TTL:PT1H
BEGIN:VTIMEZONE
TZID:America/Chicago
BEGIN:DAYLIGHT
TZOFFSETFROM:-0600
TZOFFSETTO:-0500
TZNAME:CDT
DTSTART:20240310T080000
END:DAYLIGHT
BEGIN:STANDARD
TZOFFSETFROM:-0500
TZOFFSETTO:-0600
TZNAME:CST
DTSTART:20241103T070000
END:STANDARD
END:VTIMEZONE
BEGIN:VEVENT
DTSTART;TZID=America/Chicago:20240106T150000
DTEND;TZID=America/Chicago:20240106T170000
DTSTAMP:20260423T053850
CREATED:20231219T040006Z
LAST-MODIFIED:20231219T212538Z
UID:207719-1704553200-1704560400@wineandpalette.com
SUMMARY:Winter Wine Bottle Lamps
DESCRIPTION:Create a one of a kind painted Winter wine bottle lamp. All supplies to create and design the bottle you choose are included. All will get to create their own designs. We will have some samples for inspiration with artists on hand to assist. Choice of empty wine bottle with battery powered cork LED lights. Price is per person/bottle. Bill’s Steakhouse & Saloon serves hand cut steaks\, fresh ground burgers\, hand breaded catfish\, hand breaded Chicken Fried Steaks\, and ice cold beer (as well as a full bar)! Happy Hour From 4PM – 9PM $2 Domestic Draft\, $2 Domestic Bottles\, stay after class and take advantage of their half price Appetizers at the bar!! Coupons/Discounts not valid for this event.
URL:https://wineandpalette.com/event/winter-wine-bottle-lamps/
LOCATION:Bill’s Steakhouse & Saloon\, 1013 SW 89th St\, Oklahoma City\, OK\, 73139
ATTACH;FMTTYPE=image/jpeg:https://wineandpalette.com/content/uploads/2023/12/IMG_6220.jpeg
END:VEVENT
END:VCALENDAR