BEGIN:VCALENDAR
VERSION:2.0
PRODID:-//Wine and Palette - ECPv5.16.4//NONSGML v1.0//EN
CALSCALE:GREGORIAN
METHOD:PUBLISH
X-WR-CALNAME:Wine and Palette
X-ORIGINAL-URL:https://wineandpalette.com
X-WR-CALDESC:Events for Wine and Palette
REFRESH-INTERVAL;VALUE=DURATION:PT1H
X-Robots-Tag:noindex
X-PUBLISHED-TTL:PT1H
BEGIN:VTIMEZONE
TZID:America/Chicago
BEGIN:DAYLIGHT
TZOFFSETFROM:-0600
TZOFFSETTO:-0500
TZNAME:CDT
DTSTART:20240310T080000
END:DAYLIGHT
BEGIN:STANDARD
TZOFFSETFROM:-0500
TZOFFSETTO:-0600
TZNAME:CST
DTSTART:20241103T070000
END:STANDARD
END:VTIMEZONE
BEGIN:VEVENT
DTSTART;TZID=America/Chicago:20240222T180000
DTEND;TZID=America/Chicago:20240222T200000
DTSTAMP:20260421T085837
CREATED:20231217T175955Z
LAST-MODIFIED:20240222T161409Z
UID:207678-1708624800-1708632000@wineandpalette.com
SUMMARY:Pearl Peacock
DESCRIPTION:When you visit Venezia Italian Ristorante\, you’re in for a treat. Relaxed family friendly atmosphere\, wonderful food\, and generous portions. They carry a wide variety of menu items and a great wine list that will suit anyone’s taste. Experience their fresh seafood\, Homemade Pastas\, House Specialties\, New York Style Pizza or any of their other mouthwatering dishes. (16×20 wrapped canvas).
URL:https://wineandpalette.com/event/pearl-peacock-6/
LOCATION:Venezia Italian Ristorante – MWC/Del City\, 201 S Sooner Rd\, MWC / Del City\, OK\, 73110\, United States
ATTACH;FMTTYPE=image/jpeg:https://wineandpalette.com/content/uploads/2014/08/2764-5.jpg
END:VEVENT
END:VCALENDAR