BEGIN:VCALENDAR
VERSION:2.0
PRODID:-//Wine and Palette - ECPv5.16.4//NONSGML v1.0//EN
CALSCALE:GREGORIAN
METHOD:PUBLISH
X-WR-CALNAME:Wine and Palette
X-ORIGINAL-URL:https://wineandpalette.com
X-WR-CALDESC:Events for Wine and Palette
REFRESH-INTERVAL;VALUE=DURATION:PT1H
X-Robots-Tag:noindex
X-PUBLISHED-TTL:PT1H
BEGIN:VTIMEZONE
TZID:America/Chicago
BEGIN:DAYLIGHT
TZOFFSETFROM:-0600
TZOFFSETTO:-0500
TZNAME:CDT
DTSTART:20240310T080000
END:DAYLIGHT
BEGIN:STANDARD
TZOFFSETFROM:-0500
TZOFFSETTO:-0600
TZNAME:CST
DTSTART:20241103T070000
END:STANDARD
END:VTIMEZONE
BEGIN:VEVENT
DTSTART;TZID=America/Chicago:20240229T183000
DTEND;TZID=America/Chicago:20240229T203000
DTSTAMP:20260421T010315
CREATED:20240117T014734Z
LAST-MODIFIED:20240118T210716Z
UID:208117-1709231400-1709238600@wineandpalette.com
SUMMARY:Starry Starry Desert Night
DESCRIPTION:Join us this intercalary eve for 2024’s Leap Year Paint & Sip Party at La Luna Cantina & Grill “Not your typical Mexican food joint”! Since 1984\, La Luna Cantina & Grill has been bringing authentic Mexican cuisine to the Tri-City area. Come down to Newcastle and experience for yourself. Arrive early for class and enjoy Happy Hour before creating your masterpiece!
URL:https://wineandpalette.com/event/starry-starry-desert-night-5/
LOCATION:La Luna Cantina & Grill\, 2812 Highway 62 N Service Rd\, Newcastle\, OK\, 73065\, United States
ATTACH;FMTTYPE=image/jpeg:https://wineandpalette.com/content/uploads/2019/04/4697-5.jpg
END:VEVENT
END:VCALENDAR