BEGIN:VCALENDAR
VERSION:2.0
PRODID:-//Wine and Palette - ECPv5.16.4//NONSGML v1.0//EN
CALSCALE:GREGORIAN
METHOD:PUBLISH
X-ORIGINAL-URL:https://wineandpalette.com
X-WR-CALDESC:Events for Wine and Palette
REFRESH-INTERVAL;VALUE=DURATION:PT1H
X-Robots-Tag:noindex
X-PUBLISHED-TTL:PT1H
BEGIN:VTIMEZONE
TZID:America/Chicago
BEGIN:DAYLIGHT
TZOFFSETFROM:-0600
TZOFFSETTO:-0500
TZNAME:CDT
DTSTART:20240310T080000
END:DAYLIGHT
BEGIN:STANDARD
TZOFFSETFROM:-0500
TZOFFSETTO:-0600
TZNAME:CST
DTSTART:20241103T070000
END:STANDARD
END:VTIMEZONE
BEGIN:VEVENT
DTSTART;TZID=America/Chicago:20240302T150000
DTEND;TZID=America/Chicago:20240302T170000
DTSTAMP:20260421T010717
CREATED:20240217T175007Z
LAST-MODIFIED:20240225T163616Z
UID:208689-1709391600-1709398800@wineandpalette.com
SUMMARY:Kids Dr Seuss Hat
DESCRIPTION:Kids Class! Bring your young artists for a fun Paintertainment Day! \nAll ages welcome! Full food and drinks menu available. (8×10 wrapped canvas) Discount coupons not valid. Price is per person/canvas. \n 
URL:https://wineandpalette.com/event/kids-dr-seuss-hat-2/
LOCATION:Bill’s Steakhouse & Saloon\, 1013 SW 89th St\, Oklahoma City\, OK\, 73139
ATTACH;FMTTYPE=image/jpeg:https://wineandpalette.com/content/uploads/2013/02/1117-5.jpg
END:VEVENT
END:VCALENDAR