BEGIN:VCALENDAR
VERSION:2.0
PRODID:-//Wine and Palette - ECPv5.16.4//NONSGML v1.0//EN
CALSCALE:GREGORIAN
METHOD:PUBLISH
X-ORIGINAL-URL:https://wineandpalette.com
X-WR-CALDESC:Events for Wine and Palette
REFRESH-INTERVAL;VALUE=DURATION:PT1H
X-Robots-Tag:noindex
X-PUBLISHED-TTL:PT1H
BEGIN:VTIMEZONE
TZID:America/Chicago
BEGIN:DAYLIGHT
TZOFFSETFROM:-0600
TZOFFSETTO:-0500
TZNAME:CDT
DTSTART:20240310T080000
END:DAYLIGHT
BEGIN:STANDARD
TZOFFSETFROM:-0500
TZOFFSETTO:-0600
TZNAME:CST
DTSTART:20241103T070000
END:STANDARD
END:VTIMEZONE
BEGIN:VEVENT
DTSTART;TZID=America/Chicago:20240309T150000
DTEND;TZID=America/Chicago:20240309T170000
DTSTAMP:20260421T010952
CREATED:20240219T214341Z
LAST-MODIFIED:20240219T214516Z
UID:208750-1709996400-1710003600@wineandpalette.com
SUMMARY:St. Patrick's Day Wine Bottle Lamps with Alpacas
DESCRIPTION:Special St. Patrick’s Day Painting WITH Alpacas! Join us at Magnolia Blossom Ranch to paint “St. Patty’s Day Wine Bottle Lamps” while you hang out with Alpacas! (Choice of Wine Bottle). Price is per person/wine bottle. Class includes all supplies\, St. Patty’s Day beverages and candies. Carrots/treats provided for Alpacas. Visit our FB pages for more info and details: Magnolia Blossom Ranch or Wine & Palette.
URL:https://wineandpalette.com/event/st-patricks-day-wine-bottle-lamps-with-alpacas/
LOCATION:Magnolia Blossom Ranch – Newcastle\, 2901 NW 16th St\, Newcastle\, OK\, 73065
ATTACH;FMTTYPE=image/jpeg:https://wineandpalette.com/content/uploads/2024/02/00St.-Pattys-btls.jpg
END:VEVENT
BEGIN:VEVENT
DTSTART;TZID=America/Chicago:20240309T180000
DTEND;TZID=America/Chicago:20240309T200000
DTSTAMP:20260421T010952
CREATED:20240220T034935Z
LAST-MODIFIED:20240308T213214Z
UID:208767-1710007200-1710014400@wineandpalette.com
SUMMARY:Finger Paint Trees - Date Night Class
DESCRIPTION:Date Night Class! Paint across two canvases for a Date Night or all on one! Finger Painting optional! \nBill’s Steakhouse & Saloon serves hand cut steaks\, fresh ground burgers\, hand breaded catfish\, hand breaded Chicken Fried Steaks\, and ice cold beer (as well as a full bar)! Happy Hour From 4PM – 9PM $2 Domestic Draft\, $2 Domestic Bottles\, arrive before class and take advantage of their half price Appetizers at the bar!! (16×20 wrapped canvas) Price is per person/canvas.
URL:https://wineandpalette.com/event/finger-paint-trees-date-night-class-2/
LOCATION:Bill’s Steakhouse & Saloon\, 1013 SW 89th St\, Oklahoma City\, OK\, 73139
ATTACH;FMTTYPE=image/jpeg:https://wineandpalette.com/content/uploads/2017/04/4298-5.jpg
END:VEVENT
END:VCALENDAR