BEGIN:VCALENDAR
VERSION:2.0
PRODID:-//Wine and Palette - ECPv5.16.4//NONSGML v1.0//EN
CALSCALE:GREGORIAN
METHOD:PUBLISH
X-ORIGINAL-URL:https://wineandpalette.com
X-WR-CALDESC:Events for Wine and Palette
REFRESH-INTERVAL;VALUE=DURATION:PT1H
X-Robots-Tag:noindex
X-PUBLISHED-TTL:PT1H
BEGIN:VTIMEZONE
TZID:America/Chicago
BEGIN:DAYLIGHT
TZOFFSETFROM:-0600
TZOFFSETTO:-0500
TZNAME:CDT
DTSTART:20240310T080000
END:DAYLIGHT
BEGIN:STANDARD
TZOFFSETFROM:-0500
TZOFFSETTO:-0600
TZNAME:CST
DTSTART:20241103T070000
END:STANDARD
END:VTIMEZONE
BEGIN:VEVENT
DTSTART;TZID=America/Chicago:20240320T180000
DTEND;TZID=America/Chicago:20240320T200000
DTSTAMP:20260421T010813
CREATED:20240303T152603Z
LAST-MODIFIED:20240303T154105Z
UID:208890-1710957600-1710964800@wineandpalette.com
SUMMARY:St. Paddy's  Beer
DESCRIPTION:Post St. Paddy’s Lucky Painting Party on the Patio at the Brewery! Let’s sip and paint “St. Paddy’s Beer” together. (16×20 wrapped canvas). Must be 21 for brewery. Core4 Brewing is a 3.5 BBL micro-brewery that is passionate about creativity\, education\, and building relationships.
URL:https://wineandpalette.com/event/st-paddys-beer/
LOCATION:Core4 Brewing Company\, 7 N Lee Ave\, Oklahoma City\, OK\, 73102
ATTACH;FMTTYPE=image/jpeg:https://wineandpalette.com/content/uploads/2024/02/60St.-Pattys-Beer.jpg
END:VEVENT
END:VCALENDAR