BEGIN:VCALENDAR
VERSION:2.0
PRODID:-//Wine and Palette - ECPv5.16.4//NONSGML v1.0//EN
CALSCALE:GREGORIAN
METHOD:PUBLISH
X-WR-CALNAME:Wine and Palette
X-ORIGINAL-URL:https://wineandpalette.com
X-WR-CALDESC:Events for Wine and Palette
REFRESH-INTERVAL;VALUE=DURATION:PT1H
X-Robots-Tag:noindex
X-PUBLISHED-TTL:PT1H
BEGIN:VTIMEZONE
TZID:America/Chicago
BEGIN:DAYLIGHT
TZOFFSETFROM:-0600
TZOFFSETTO:-0500
TZNAME:CDT
DTSTART:20240310T080000
END:DAYLIGHT
BEGIN:STANDARD
TZOFFSETFROM:-0500
TZOFFSETTO:-0600
TZNAME:CST
DTSTART:20241103T070000
END:STANDARD
END:VTIMEZONE
BEGIN:VEVENT
DTSTART;TZID=America/Chicago:20240330T100000
DTEND;TZID=America/Chicago:20240330T170000
DTSTAMP:20260421T010448
CREATED:20240219T222451Z
LAST-MODIFIED:20240312T192921Z
UID:208759-1711792800-1711818000@wineandpalette.com
SUMMARY:Tulip Festival ~ Pop-in Painting
DESCRIPTION:Wine & Palette will be at the Myriad Botanical Gardens for Tulip Festival. Stop by say hi\, paint & create something beautiful to share! We will have several different creativity options. A little something for everyone. Find us by Thunder Fountain for lots of Spring has sprung fun! Please visit oklahomacitybotanicalgardens.com for additional information.
URL:https://wineandpalette.com/event/tulip-festival-pop-in-painting-3/
LOCATION:Myriad Botanical Gardens\, 301 W. Reno\, Oklahoma City\, OK\, 73102
ATTACH;FMTTYPE=image/jpeg:https://wineandpalette.com/content/uploads/2024/02/00tulip-fest-mbg2024.jpg
END:VEVENT
END:VCALENDAR