BEGIN:VCALENDAR
VERSION:2.0
PRODID:-//Wine and Palette - ECPv5.16.4//NONSGML v1.0//EN
CALSCALE:GREGORIAN
METHOD:PUBLISH
X-ORIGINAL-URL:https://wineandpalette.com
X-WR-CALDESC:Events for Wine and Palette
REFRESH-INTERVAL;VALUE=DURATION:PT1H
X-Robots-Tag:noindex
X-PUBLISHED-TTL:PT1H
BEGIN:VTIMEZONE
TZID:America/Chicago
BEGIN:DAYLIGHT
TZOFFSETFROM:-0600
TZOFFSETTO:-0500
TZNAME:CDT
DTSTART:20240310T080000
END:DAYLIGHT
BEGIN:STANDARD
TZOFFSETFROM:-0500
TZOFFSETTO:-0600
TZNAME:CST
DTSTART:20241103T070000
END:STANDARD
END:VTIMEZONE
BEGIN:VEVENT
DTSTART;TZID=America/Chicago:20240412T180000
DTEND;TZID=America/Chicago:20240412T220000
DTSTAMP:20260420T231235
CREATED:20240409T025259Z
LAST-MODIFIED:20240410T021245Z
UID:209222-1712944800-1712959200@wineandpalette.com
SUMMARY:Live! on the Pawza ~ Pet Paw Prints
DESCRIPTION:Wine & Palette will be at Live! on the Pawza. Stop by say hi and and paint with your pet! Turn your pets paw prints into a treasured piece of art! Create a one of a kind keepsake on canvas. Pet paw prints in paint\, 2 sizes available: 4×4 canvas panel board $10 or 5×7 canvas panel board $15. And to add to your refrigerator art we have a variety of wood pet theme magnets $5 to paint too! Please visit plazadistrict.org for more info.
URL:https://wineandpalette.com/event/live-on-the-pawza/
LOCATION:Plaza District\, 1745 NW 16th Street\, Oklahoma City\, OK\, 73106\, United States
ATTACH;FMTTYPE=image/jpeg:https://wineandpalette.com/content/uploads/2024/04/IMG_6919.jpeg
END:VEVENT
END:VCALENDAR