BEGIN:VCALENDAR
VERSION:2.0
PRODID:-//Wine and Palette - ECPv5.16.4//NONSGML v1.0//EN
CALSCALE:GREGORIAN
METHOD:PUBLISH
X-ORIGINAL-URL:https://wineandpalette.com
X-WR-CALDESC:Events for Wine and Palette
REFRESH-INTERVAL;VALUE=DURATION:PT1H
X-Robots-Tag:noindex
X-PUBLISHED-TTL:PT1H
BEGIN:VTIMEZONE
TZID:America/Chicago
BEGIN:DAYLIGHT
TZOFFSETFROM:-0600
TZOFFSETTO:-0500
TZNAME:CDT
DTSTART:20240310T080000
END:DAYLIGHT
BEGIN:STANDARD
TZOFFSETFROM:-0500
TZOFFSETTO:-0600
TZNAME:CST
DTSTART:20241103T070000
END:STANDARD
END:VTIMEZONE
BEGIN:VEVENT
DTSTART;TZID=America/Chicago:20240421T130000
DTEND;TZID=America/Chicago:20240421T150000
DTSTAMP:20260420T231240
CREATED:20240318T213348Z
LAST-MODIFIED:20240421T160745Z
UID:209023-1713704400-1713711600@wineandpalette.com
SUMMARY:Dirty Pour – A Fluid Art Paint Pouring Experience!
DESCRIPTION:Beginners Abstract Dirty Pour Technique in Acrylic on 9×12 wrapped canvas. What’s a Dirty Pour? It’s simply a term for mixing more than one paint color in same container with a magic cell creating ingredient before adding or pouring it onto the canvas. We will have all complimentary colors in paint available with some metallics for a special end effect! Point A is a community center located in the NW 39th Street Enclave of Oklahoma City. They are dedicated to providing an inclusive space for all to come together and connect. The center is home to an art gallery\, music venue\, and host to workshops\, events and more. We invite you to explore the space and join us for an afternoon of paint pouring. Point A\, is committed to nurturing an environment where all are welcome and can share their stories\, cultivate relationships\, and find solace in the power of community. We hope you will join us! Food and beverage available for purchase. (must be 21+ to purchase alcohol). (Photo shows 6 examples\, price is per canvas/person). Coupons/Discount tickets not valid for this event.
URL:https://wineandpalette.com/event/dirty-pour-a-fluid-art-paint-pouring-experience-53/
LOCATION:Point A Gallery\, 2124 NW 39th Street\, Oklahoma City\, OK\, 73112\, United States
ATTACH;FMTTYPE=image/jpeg:https://wineandpalette.com/content/uploads/2019/06/4727-5.jpg
END:VEVENT
END:VCALENDAR