BEGIN:VCALENDAR
VERSION:2.0
PRODID:-//Wine and Palette - ECPv5.16.4//NONSGML v1.0//EN
CALSCALE:GREGORIAN
METHOD:PUBLISH
X-WR-CALNAME:Wine and Palette
X-ORIGINAL-URL:https://wineandpalette.com
X-WR-CALDESC:Events for Wine and Palette
REFRESH-INTERVAL;VALUE=DURATION:PT1H
X-Robots-Tag:noindex
X-PUBLISHED-TTL:PT1H
BEGIN:VTIMEZONE
TZID:America/Chicago
BEGIN:DAYLIGHT
TZOFFSETFROM:-0600
TZOFFSETTO:-0500
TZNAME:CDT
DTSTART:20240310T080000
END:DAYLIGHT
BEGIN:STANDARD
TZOFFSETFROM:-0500
TZOFFSETTO:-0600
TZNAME:CST
DTSTART:20241103T070000
END:STANDARD
END:VTIMEZONE
BEGIN:VEVENT
DTSTART;TZID=America/Chicago:20240531T180000
DTEND;TZID=America/Chicago:20240531T200000
DTSTAMP:20260420T195330
CREATED:20240419T210052Z
LAST-MODIFIED:20240519T225202Z
UID:209372-1717178400-1717185600@wineandpalette.com
SUMMARY:Alpaca Succulent ~ Cactus Painting & Planting Class
DESCRIPTION:Paint\, Sip & Plant WITH Alpacas! Create your own personal potted cactus/ succulent while you hang out with Alpacas! Paint & personalize your terra-cotta pot to plant. Create own designs with choice of cactus & succulents to plant. Artists on hand to assist. (1 pot per person with soil\, stones\, etc.\, a wood alpaca plant stake\, & choice of plants to fill). Class includes all supplies and a glass of wine to sip on for those 21. Additional beverages sold separately. Non-alcoholic beverage available. Carrots/treats provided for Alpacas. Visit our FB pages for more info and details: Magnolia Blossom Ranch or Wine & Palette.
URL:https://wineandpalette.com/event/alpaca-succulent-cactus-painting-planting-class-2/
LOCATION:Magnolia Blossom Ranch – Newcastle\, 2901 NW 16th St\, Newcastle\, OK\, 73065
ATTACH;FMTTYPE=image/jpeg:https://wineandpalette.com/content/uploads/2021/05/4971-5.jpg
END:VEVENT
END:VCALENDAR