BEGIN:VCALENDAR
VERSION:2.0
PRODID:-//Wine and Palette - ECPv5.16.4//NONSGML v1.0//EN
CALSCALE:GREGORIAN
METHOD:PUBLISH
X-ORIGINAL-URL:https://wineandpalette.com
X-WR-CALDESC:Events for Wine and Palette
REFRESH-INTERVAL;VALUE=DURATION:PT1H
X-Robots-Tag:noindex
X-PUBLISHED-TTL:PT1H
BEGIN:VTIMEZONE
TZID:America/Chicago
BEGIN:DAYLIGHT
TZOFFSETFROM:-0600
TZOFFSETTO:-0500
TZNAME:CDT
DTSTART:20240310T080000
END:DAYLIGHT
BEGIN:STANDARD
TZOFFSETFROM:-0500
TZOFFSETTO:-0600
TZNAME:CST
DTSTART:20241103T070000
END:STANDARD
END:VTIMEZONE
BEGIN:VEVENT
DTSTART;TZID=America/Chicago:20240611T180000
DTEND;TZID=America/Chicago:20240611T200000
DTSTAMP:20260420T195323
CREATED:20240514T004048Z
LAST-MODIFIED:20240514T004048Z
UID:209588-1718128800-1718136000@wineandpalette.com
SUMMARY:Floral Painted Wine Bottle Lamps
DESCRIPTION:Create a one of a kind wine bottle lamp / night light. All supplies to create / design the bottle you choose are included\, with a glass of wine to sip on too! All will get to create their own designs. We will have some samples for inspiration with artists on hand to assist. Choice of empty wine bottle with battery powered cork LED lights. The Flower Shop Winery offers wine tastings as well as craft beer and pizza. Please visit flowershopwinery.com for more info.
URL:https://wineandpalette.com/event/floral-painted-wine-bottle-lamps-6/
LOCATION:The Flower Shop Winery ~ Yukon\, 629 W Main St\, Yukon\, OK\, 73099
ATTACH;FMTTYPE=image/jpeg:https://wineandpalette.com/content/uploads/2023/01/00FloralWineBottleLamps.jpg
END:VEVENT
END:VCALENDAR