BEGIN:VCALENDAR
VERSION:2.0
PRODID:-//Wine and Palette - ECPv5.16.4//NONSGML v1.0//EN
CALSCALE:GREGORIAN
METHOD:PUBLISH
X-ORIGINAL-URL:https://wineandpalette.com
X-WR-CALDESC:Events for Wine and Palette
REFRESH-INTERVAL;VALUE=DURATION:PT1H
X-Robots-Tag:noindex
X-PUBLISHED-TTL:PT1H
BEGIN:VTIMEZONE
TZID:America/Chicago
BEGIN:DAYLIGHT
TZOFFSETFROM:-0600
TZOFFSETTO:-0500
TZNAME:CDT
DTSTART:20240310T080000
END:DAYLIGHT
BEGIN:STANDARD
TZOFFSETFROM:-0500
TZOFFSETTO:-0600
TZNAME:CST
DTSTART:20241103T070000
END:STANDARD
END:VTIMEZONE
BEGIN:VEVENT
DTSTART;TZID=America/Chicago:20240612T180000
DTEND;TZID=America/Chicago:20240612T200000
DTSTAMP:20260420T195324
CREATED:20240516T154615Z
LAST-MODIFIED:20240517T222439Z
UID:209636-1718215200-1718222400@wineandpalette.com
SUMMARY:Finger Paint Flag
DESCRIPTION:Flag Day & Father’s Day are almost here! Let’s Celebrate!! Bring Dad out for a beer and some Adult Finger Painting FUN at Core4 Brewery! (Yes we will have finger covers and gloves or brushes if preferred) Finger Painting optional! We will be painting on the covered patio at Core 4 (must be 21 for brewery). Core4 Brewing is a 3.5 BBL micro-brewery that is passionate about creativity\, education\, and building relationships. Visit our FB pages for more info. (11×14 wrapped canvas). (Discount coupons not valid for this event).
URL:https://wineandpalette.com/event/finger-paint-flag-2/
LOCATION:Core4 Brewing Company\, 7 N Lee Ave\, Oklahoma City\, OK\, 73102
ATTACH;FMTTYPE=image/jpeg:https://wineandpalette.com/content/uploads/2019/05/4710-5.jpg
END:VEVENT
BEGIN:VEVENT
DTSTART;TZID=America/Chicago:20240612T180000
DTEND;TZID=America/Chicago:20240612T200000
DTSTAMP:20260420T195324
CREATED:20240517T222036Z
LAST-MODIFIED:20240618T195759Z
UID:209669-1718215200-1718222400@wineandpalette.com
SUMMARY:Stone Cottage Country Garden
DESCRIPTION:Bill’s Steakhouse & Saloon serves hand cut steaks\, fresh ground burgers\, hand breaded catfish\, hand breaded Chicken Fried Steaks\, and ice cold beer (as well as a full bar)! Happy Hour From 4PM – 9PM $2 Domestic Draft\, $2 Domestic Bottles\, arrive before class and take advantage of their half price Appetizers at the bar!! (16×20 wrapped canvas).
URL:https://wineandpalette.com/event/stone-cottage-country-garden-3/
LOCATION:Bill’s Steakhouse & Saloon\, 1013 SW 89th St\, Oklahoma City\, OK\, 73139
ATTACH;FMTTYPE=image/jpeg:https://wineandpalette.com/content/uploads/2020/05/4849-5.jpg
END:VEVENT
END:VCALENDAR