BEGIN:VCALENDAR
VERSION:2.0
PRODID:-//Wine and Palette - ECPv5.16.4//NONSGML v1.0//EN
CALSCALE:GREGORIAN
METHOD:PUBLISH
X-ORIGINAL-URL:https://wineandpalette.com
X-WR-CALDESC:Events for Wine and Palette
REFRESH-INTERVAL;VALUE=DURATION:PT1H
X-Robots-Tag:noindex
X-PUBLISHED-TTL:PT1H
BEGIN:VTIMEZONE
TZID:America/Chicago
BEGIN:DAYLIGHT
TZOFFSETFROM:-0600
TZOFFSETTO:-0500
TZNAME:CDT
DTSTART:20240310T080000
END:DAYLIGHT
BEGIN:STANDARD
TZOFFSETFROM:-0500
TZOFFSETTO:-0600
TZNAME:CST
DTSTART:20241103T070000
END:STANDARD
END:VTIMEZONE
BEGIN:VEVENT
DTSTART;TZID=America/Chicago:20240615T080000
DTEND;TZID=America/Chicago:20240615T130000
DTSTAMP:20260420T195322
CREATED:20240521T205628Z
LAST-MODIFIED:20240521T205628Z
UID:209725-1718438400-1718456400@wineandpalette.com
SUMMARY:Route 66 Triple Tour ~ Warr Acres Festival
DESCRIPTION:Wine & Palette will be out for the Route 66 Triple Tour! Come cruise 3 Highway Towns for a fun Family day in Warr Acres\, Bethany\, & Yukon. Pull over in Warr Acres 39th EXPWY & Ann Arbor for some Pop In Painting FUN! Please visit https://www.facebook.com/WarrAcresCityHall for more tour and festival information
URL:https://wineandpalette.com/event/route-66-triple-tour-warr-acres-festival/
LOCATION:Route 66 Triple Tour\, 39th EXPWY & Ann Arbor\, Warr Acres\, United States
ATTACH;FMTTYPE=image/jpeg:https://wineandpalette.com/content/uploads/2024/05/IMG_7217.jpeg
END:VEVENT
BEGIN:VEVENT
DTSTART;TZID=America/Chicago:20240615T180000
DTEND;TZID=America/Chicago:20240615T200000
DTSTAMP:20260420T195322
CREATED:20240517T134638Z
LAST-MODIFIED:20240517T222459Z
UID:209651-1718474400-1718481600@wineandpalette.com
SUMMARY:The Tardis
DESCRIPTION:Dr. Who Fans or Whovians join us for a fun night of painting The Tardis! \nBill’s Steakhouse & Saloon serves hand cut steaks\, fresh ground burgers\, hand breaded catfish\, hand breaded Chicken Fried Steaks\, and ice cold beer (as well as a full bar)! Happy Hour From 4PM – 9PM $2 Domestic Draft\, $2 Domestic Bottles\, arrive before class and take advantage of their half price Appetizers at the bar!! (16×20 wrapped canvas)
URL:https://wineandpalette.com/event/the-tardis/
LOCATION:Bill’s Steakhouse & Saloon\, 1013 SW 89th St\, Oklahoma City\, OK\, 73139
ATTACH;FMTTYPE=image/jpeg:https://wineandpalette.com/content/uploads/2013/04/1242-5.jpg
END:VEVENT
END:VCALENDAR