BEGIN:VCALENDAR
VERSION:2.0
PRODID:-//Wine and Palette - ECPv5.16.4//NONSGML v1.0//EN
CALSCALE:GREGORIAN
METHOD:PUBLISH
X-ORIGINAL-URL:https://wineandpalette.com
X-WR-CALDESC:Events for Wine and Palette
REFRESH-INTERVAL;VALUE=DURATION:PT1H
X-Robots-Tag:noindex
X-PUBLISHED-TTL:PT1H
BEGIN:VTIMEZONE
TZID:America/Chicago
BEGIN:DAYLIGHT
TZOFFSETFROM:-0600
TZOFFSETTO:-0500
TZNAME:CDT
DTSTART:20240310T080000
END:DAYLIGHT
BEGIN:STANDARD
TZOFFSETFROM:-0500
TZOFFSETTO:-0600
TZNAME:CST
DTSTART:20241103T070000
END:STANDARD
END:VTIMEZONE
BEGIN:VEVENT
DTSTART;TZID=America/Chicago:20240616T140000
DTEND;TZID=America/Chicago:20240616T160000
DTSTAMP:20260420T195325
CREATED:20240509T231018Z
LAST-MODIFIED:20240511T015101Z
UID:209552-1718546400-1718553600@wineandpalette.com
SUMMARY:Dirty Pour – A Fluid Art Paint Pouring Experience!
DESCRIPTION:Happy Fathers Day! Bring Dad to create a fun painting and try some Anthem brews! \nBeginners Abstract Dirty Pour Technique in Acrylic on 9×12 wrapped canvas. What’s a Dirty Pour? It’s simply a term for mixing more than one paint color in same container with a magic cell creating ingredient before adding or pouring it onto the canvas. We will have all complimentary colors in paint available with some metallics for a special end effect! \nJoin us to try Anthem beers (cash bar)\, see the brewery and create a one of  a kind painting! Price is per person/canvas. No food service. Guests may bring in food\, no outside drinks allowed. All ages welcome!  No discount coupons
URL:https://wineandpalette.com/event/dirty-pour-17/
LOCATION:Anthem Brewing Company\, 908 SW 4th St\, OKC\, OK\, 73109
ATTACH;FMTTYPE=image/jpeg:https://wineandpalette.com/content/uploads/2019/06/4727-5.jpg
END:VEVENT
END:VCALENDAR