BEGIN:VCALENDAR
VERSION:2.0
PRODID:-//Wine and Palette - ECPv5.16.4//NONSGML v1.0//EN
CALSCALE:GREGORIAN
METHOD:PUBLISH
X-WR-CALNAME:Wine and Palette
X-ORIGINAL-URL:https://wineandpalette.com
X-WR-CALDESC:Events for Wine and Palette
REFRESH-INTERVAL;VALUE=DURATION:PT1H
X-Robots-Tag:noindex
X-PUBLISHED-TTL:PT1H
BEGIN:VTIMEZONE
TZID:America/Chicago
BEGIN:DAYLIGHT
TZOFFSETFROM:-0600
TZOFFSETTO:-0500
TZNAME:CDT
DTSTART:20240310T080000
END:DAYLIGHT
BEGIN:STANDARD
TZOFFSETFROM:-0500
TZOFFSETTO:-0600
TZNAME:CST
DTSTART:20241103T070000
END:STANDARD
END:VTIMEZONE
BEGIN:VEVENT
DTSTART;TZID=America/Chicago:20240623T140000
DTEND;TZID=America/Chicago:20240623T160000
DTSTAMP:20260420T195332
CREATED:20240524T025410Z
LAST-MODIFIED:20240527T132305Z
UID:209734-1719151200-1719158400@wineandpalette.com
SUMMARY:Sea Glass Birds
DESCRIPTION:Join us for our first Sea Glass Art Class! Sea Glass Sunday at Backyard Vineyards Winery & Tasting Room located in OKC Farmer’s Market District. We will be using an array of colorful sea glass pieces\, wine corks\, twine\, and some acrylic paints to create something similar to pictured design “Sea Glass Birds” on choice of 8×10 or 5×7 canvas panel board (sea glass colors\, shapes\, & sizes vary). Frame not included but we will have some available for purchase. Class includes all supplies and instruction  needed to create\, with a glass of wine for each registered participant (must be 21+). Discount coupons not valid for this event. Please visit backyardvineyardsokc.com for more info about OKC’s newest winery! \n 
URL:https://wineandpalette.com/event/sea-glass-birds/
LOCATION:Backyard Vineyards\, 1200 West Reno Avenue\, Oklahoma City\, OK\, 73106\, United States
ATTACH;FMTTYPE=image/jpeg:https://wineandpalette.com/content/uploads/2024/05/IMG_7312.jpeg
END:VEVENT
END:VCALENDAR