BEGIN:VCALENDAR
VERSION:2.0
PRODID:-//Wine and Palette - ECPv5.16.4//NONSGML v1.0//EN
CALSCALE:GREGORIAN
METHOD:PUBLISH
X-WR-CALNAME:Wine and Palette
X-ORIGINAL-URL:https://wineandpalette.com
X-WR-CALDESC:Events for Wine and Palette
REFRESH-INTERVAL;VALUE=DURATION:PT1H
X-Robots-Tag:noindex
X-PUBLISHED-TTL:PT1H
BEGIN:VTIMEZONE
TZID:America/Chicago
BEGIN:DAYLIGHT
TZOFFSETFROM:-0600
TZOFFSETTO:-0500
TZNAME:CDT
DTSTART:20230312T080000
END:DAYLIGHT
BEGIN:STANDARD
TZOFFSETFROM:-0500
TZOFFSETTO:-0600
TZNAME:CST
DTSTART:20231105T070000
END:STANDARD
END:VTIMEZONE
BEGIN:VEVENT
DTSTART;TZID=America/Chicago:20230207T180000
DTEND;TZID=America/Chicago:20230207T200000
DTSTAMP:20260421T064625
CREATED:20230117T164943Z
LAST-MODIFIED:20230205T164548Z
UID:200943-1675792800-1675800000@wineandpalette.com
SUMMARY:Valentine's Wine Glass Painting Class
DESCRIPTION:Class includes choice of glassware to paint (1 per person). All supplies to create/design the glass you choose are included\, with a glass of wine to sip on too! Additional glasses available night of $10 each. All will get to create their own designs. We will have some samples for inspiration with artists on hand to assist. The Flower Shop Winery has been making wine since 2001. They offer wine tastings\, craft beer\, & pizza. Please visit our FB pages or flowershopwinery.com for more info.
URL:https://wineandpalette.com/event/valentines-wine-glass-painting-class-2/
LOCATION:The Flower Shop Winery ~ Yukon\, 629 W Main St\, Yukon\, OK\, 73099
ATTACH;FMTTYPE=image/jpeg:https://wineandpalette.com/content/uploads/2017/01/4250-5.jpg
END:VEVENT
BEGIN:VEVENT
DTSTART;TZID=America/Chicago:20230208T180000
DTEND;TZID=America/Chicago:20230208T200000
DTSTAMP:20260421T064625
CREATED:20230117T014100Z
LAST-MODIFIED:20230117T014104Z
UID:200908-1675879200-1675886400@wineandpalette.com
SUMMARY:Love Birds on the Lake
DESCRIPTION:Bill’s Steakhouse & Saloon serves hand cut steaks\, fresh ground burgers\, hand breaded catfish\, hand breaded Chicken Fried Steaks\, and ice cold beer (as well as a full bar)! Happy Hour From 4PM – 9PM $2 Domestic Draft\, $2 Domestic Bottles\, arrive before class and take advantage of their half price Appetizers at the bar!! (16×20 wrapped canvas)
URL:https://wineandpalette.com/event/love-birds-on-the-lake-4/
LOCATION:Bill’s Steakhouse & Saloon\, 1013 SW 89th St\, Oklahoma City\, OK\, 73139
ATTACH;FMTTYPE=image/jpeg:https://wineandpalette.com/content/uploads/2015/06/3537-5.jpg
END:VEVENT
BEGIN:VEVENT
DTSTART;TZID=America/Chicago:20230210T183000
DTEND;TZID=America/Chicago:20230210T203000
DTSTAMP:20260421T064625
CREATED:20230105T012830Z
LAST-MODIFIED:20230210T170701Z
UID:200582-1676053800-1676061000@wineandpalette.com
SUMMARY:Floral Bucket
DESCRIPTION:Fundraiser for the Mustang Dog Park! Proceeds benefit Dog Park Improvements! (11×14 wrapped canvas) Light snacks included. Registered guests are allowed to bring food & drinks in. Discount coupons not valid for this event. Price is per person/canvas.
URL:https://wineandpalette.com/event/floral-bucket-3/
LOCATION:Mustang Recreation Center\, 1201 N Mustang Rd\, Mustang\, Oklahoma\, 73064
ATTACH;FMTTYPE=image/jpeg:https://wineandpalette.com/content/uploads/2020/01/4823-5.jpg
END:VEVENT
BEGIN:VEVENT
DTSTART;TZID=America/Chicago:20230211T150000
DTEND;TZID=America/Chicago:20230211T170000
DTSTAMP:20260421T064625
CREATED:20230117T171706Z
LAST-MODIFIED:20230201T191228Z
UID:200949-1676127600-1676134800@wineandpalette.com
SUMMARY:Alpaca Wine Bottle Love Lamps - Date Night
DESCRIPTION:Special Valentine’s Painting WITH Alpacas! Join us at Magnolia Blossom Ranch to paint “Alpaca Wine Bottle Love Lamps” while you hang out with Alpacas! (Choice of Wine Bottle). Price is per person/wine bottle. Class includes all supplies and instruction\, Valentine’s chocolates\, and glass of wine or champagne for those 21. Additional beverages sold separately. Non-alcoholic beverages available. Carrots/treats provided for Alpacas. Visit our FB pages for more info and details: Magnolia Blossom Ranch or Wine & Palette.
URL:https://wineandpalette.com/event/alpaca-wine-bottle-love-lamps-date-night/
LOCATION:Magnolia Blossom Ranch – Newcastle\, 2901 NW 16th St\, Newcastle\, OK\, 73065
ATTACH;FMTTYPE=image/png:https://wineandpalette.com/content/uploads/2023/01/49AlpacaWineBottleLoveLamps.png
END:VEVENT
BEGIN:VEVENT
DTSTART;TZID=America/Chicago:20230211T180000
DTEND;TZID=America/Chicago:20230211T200000
DTSTAMP:20260421T064625
CREATED:20230117T015205Z
LAST-MODIFIED:20230208T005446Z
UID:200914-1676138400-1676145600@wineandpalette.com
SUMMARY:Heartbeats - Date Night
DESCRIPTION:Bill’s Steakhouse & Saloon serves hand cut steaks\, fresh ground burgers\, hand breaded catfish\, hand breaded Chicken Fried Steaks\, and ice cold beer (as well as a full bar)! Happy Hour From 4PM – 9PM $2 Domestic Draft\, $2 Domestic Bottles\, arrive before class and take advantage of their half price Appetizers at the bar!! (16×20 wrapped canvas)
URL:https://wineandpalette.com/event/heartbeats-date-night-3/
LOCATION:Bill’s Steakhouse & Saloon\, 1013 SW 89th St\, Oklahoma City\, OK\, 73139
ATTACH;FMTTYPE=image/jpeg:https://wineandpalette.com/content/uploads/2016/01/3916-5.jpg
END:VEVENT
BEGIN:VEVENT
DTSTART;TZID=America/Chicago:20230213T180000
DTEND;TZID=America/Chicago:20230213T200000
DTSTAMP:20260421T064625
CREATED:20230123T040757Z
LAST-MODIFIED:20230125T160124Z
UID:201246-1676311200-1676318400@wineandpalette.com
SUMMARY:Lively Sun Lovely Moon Date Night
DESCRIPTION:Join Wine & Palette for a special Valentines Date Night at El Jimador Mexican Grill in Wilburton and enjoy some painting\, sipping\, socializing\, and the mexican food! All painting supplies and instruction included. Food & Drinks are separate. (11×14 wrapped canvas) Price is per person/canvas.
URL:https://wineandpalette.com/event/tbd-7/
LOCATION:El Jimador Mexican Grill – Wilburton\, 102 E Main St\, Wilburton\, OK\, 74578
ATTACH;FMTTYPE=image/jpeg:https://wineandpalette.com/content/uploads/2017/07/4353-5.jpg
END:VEVENT
BEGIN:VEVENT
DTSTART;TZID=America/Chicago:20230214T180000
DTEND;TZID=America/Chicago:20230214T200000
DTSTAMP:20260421T064625
CREATED:20230118T223529Z
LAST-MODIFIED:20230214T190500Z
UID:201030-1676397600-1676404800@wineandpalette.com
SUMMARY:Hearts Bay Sunset Love - Date Night
DESCRIPTION:“Pints & Palette” Date Night Class for Valentine’s Day! Join us to try Anthem beers (cash bar)\, see the brewery and paint “Hearts Bay Sunset Love”! Price is per person/canvas. No food service. Guests may bring in food\, no outside drinks allowed. All ages welcome! (16×20 wrapped canvas).
URL:https://wineandpalette.com/event/hearts-bay-sunset-love-date-night-2/
LOCATION:Anthem Brewing Company\, 908 SW 4th St\, OKC\, OK\, 73109
ATTACH;FMTTYPE=image/jpeg:https://wineandpalette.com/content/uploads/2023/01/49HeartsBaySunsetLoveDateNight.jpeg-scaled.jpeg
END:VEVENT
BEGIN:VEVENT
DTSTART;TZID=America/Chicago:20230215T180000
DTEND;TZID=America/Chicago:20230215T200000
DTSTAMP:20260421T064625
CREATED:20230118T011039Z
LAST-MODIFIED:20230205T191703Z
UID:200977-1676484000-1676491200@wineandpalette.com
SUMMARY:Monochrome Rose
DESCRIPTION:Bill’s Steakhouse & Saloon serves hand cut steaks\, fresh ground burgers\, hand breaded catfish\, hand breaded Chicken Fried Steaks\, and ice cold beer (as well as a full bar)! Happy Hour From 4PM – 9PM $2 Domestic Draft\, $2 Domestic Bottles\, arrive before class and take advantage of their half price Appetizers at the bar!! (16×20 wrapped canvas)
URL:https://wineandpalette.com/event/monochrome-rose-3/
LOCATION:Bill’s Steakhouse & Saloon\, 1013 SW 89th St\, Oklahoma City\, OK\, 73139
ATTACH;FMTTYPE=image/jpeg:https://wineandpalette.com/content/uploads/2013/05/1328-5.jpg
END:VEVENT
BEGIN:VEVENT
DTSTART;TZID=America/Chicago:20230218T150000
DTEND;TZID=America/Chicago:20230218T170000
DTSTAMP:20260421T064625
CREATED:20230118T012711Z
LAST-MODIFIED:20230217T170418Z
UID:200983-1676732400-1676739600@wineandpalette.com
SUMMARY:Fancy Flowers
DESCRIPTION:Bill’s Steakhouse & Saloon serves hand cut steaks\, fresh ground burgers\, hand breaded catfish\, hand breaded Chicken Fried Steaks\, and ice cold beer (as well as a full bar)! Happy Hour From 4PM – 9PM $2 Domestic Draft\, $2 Domestic Bottles\, stay after class and take advantage of their half price Appetizers at the bar!! (16×20 wrapped canvas) Price is per person/canvas.
URL:https://wineandpalette.com/event/fancy-flowers-8/
LOCATION:Bill’s Steakhouse & Saloon\, 1013 SW 89th St\, Oklahoma City\, OK\, 73139
ATTACH;FMTTYPE=image/jpeg:https://wineandpalette.com/content/uploads/2017/04/4296-5.jpg
END:VEVENT
BEGIN:VEVENT
DTSTART;TZID=America/Chicago:20230219T140000
DTEND;TZID=America/Chicago:20230219T160000
DTSTAMP:20260421T064625
CREATED:20230202T211903Z
LAST-MODIFIED:20230219T174142Z
UID:201440-1676815200-1676822400@wineandpalette.com
SUMMARY:Fancy Flowers - Private Event
DESCRIPTION:Private Ladies Painting Event hosted by Linda Andrews (16×20)
URL:https://wineandpalette.com/event/fancy-flowers-private-event/
LOCATION:The Chicken Shack\, 212 OK-66\, Arcadia\, OK\, 73007
ATTACH;FMTTYPE=image/jpeg:https://wineandpalette.com/content/uploads/2017/04/4296-5.jpg
END:VEVENT
BEGIN:VEVENT
DTSTART;TZID=America/Chicago:20230223T180000
DTEND;TZID=America/Chicago:20230223T200000
DTSTAMP:20260421T064625
CREATED:20230118T015531Z
LAST-MODIFIED:20230217T172746Z
UID:200993-1677175200-1677182400@wineandpalette.com
SUMMARY:Fanciful Feather
DESCRIPTION:When you visit Venezia Italian Ristorante\, you’re in for a treat. Relaxed family friendly atmosphere\, wonderful food\, and generous portions. They carry a wide variety of menu items and a great wine list that will suit anyone’s taste. Experience their fresh seafood\, Homemade Pastas\, House Specialties\, New York Style Pizza or any of their other mouthwatering dishes. (16×20 wrapped canvas).
URL:https://wineandpalette.com/event/fanciful-feather-7/
LOCATION:Venezia Italian Ristorante – MWC/Del City\, 201 S Sooner Rd\, MWC / Del City\, OK\, 73110\, United States
ATTACH;FMTTYPE=image/jpeg:https://wineandpalette.com/content/uploads/2015/07/3608-5.jpg
END:VEVENT
BEGIN:VEVENT
DTSTART;TZID=America/Chicago:20230225T180000
DTEND;TZID=America/Chicago:20230225T200000
DTSTAMP:20260421T064625
CREATED:20230118T021815Z
LAST-MODIFIED:20230225T182534Z
UID:201000-1677348000-1677355200@wineandpalette.com
SUMMARY:Snow Tiger
DESCRIPTION:Bill’s Steakhouse & Saloon serves hand cut steaks\, fresh ground burgers\, hand breaded catfish\, hand breaded Chicken Fried Steaks\, and ice cold beer (as well as a full bar)! Happy Hour From 4PM – 9PM $2 Domestic Draft\, $2 Domestic Bottles\, arrive before class and take advantage of their half price Appetizers at the bar!! (16×20 wrapped canvas)
URL:https://wineandpalette.com/event/snow-tiger-3/
LOCATION:Bill’s Steakhouse & Saloon\, 1013 SW 89th St\, Oklahoma City\, OK\, 73139
ATTACH;FMTTYPE=image/jpeg:https://wineandpalette.com/content/uploads/2014/12/3105-5.jpg
END:VEVENT
BEGIN:VEVENT
DTSTART;TZID=America/Chicago:20230226T160000
DTEND;TZID=America/Chicago:20230226T180000
DTSTAMP:20260421T064625
CREATED:20230117T021145Z
LAST-MODIFIED:20230119T003606Z
UID:200923-1677427200-1677434400@wineandpalette.com
SUMMARY:Dirty Pour
DESCRIPTION:Beginners Abstract Dirty Pour Technique in Acrylic on 9×12 wrapped canvas. What’s a Dirty Pour? It’s simply a term for mixing more than one paint color in same container with a magic cell creating ingredient before adding or pouring it onto the canvas. We will have all complimentary colors in paint available with some metallics for a special end effect! Come get bit at The Flea by the painting bug! *MUST BE 21+*. (Photo shows 6 examples\, price is per canvas/person) Coupons/Discounts not valid.
URL:https://wineandpalette.com/event/dirty-pour-9/
LOCATION:The Flea\, 733 NW 4th St\, Oklahoma City\, OK\, 73102
ATTACH;FMTTYPE=image/jpeg:https://wineandpalette.com/content/uploads/2019/06/4727-5.jpg
END:VEVENT
BEGIN:VEVENT
DTSTART;TZID=America/Chicago:20230227T183000
DTEND;TZID=America/Chicago:20230227T203000
DTSTAMP:20260421T064625
CREATED:20221218T171055Z
LAST-MODIFIED:20230130T184800Z
UID:200211-1677522600-1677529800@wineandpalette.com
SUMMARY:Winter Bison
DESCRIPTION:Chicken N Pickle is new indoor/outdoor entertainment complex that includes a casual\, chef-driven restaurant and sports bar that boasts pickleball courts\, & a variety of yard games. (16×20 wrapped canvas) Price is per person/canvas. We will be painting in a private room\, next to the Oklahoma bar with Okla based beer\, wine\, & spirits!
URL:https://wineandpalette.com/event/winter-bison-5/
LOCATION:Chicken N Pickle\, 8400 N Oklahoma Ave\, Oklahoma City\, OK\, 73114
ATTACH;FMTTYPE=image/jpeg:https://wineandpalette.com/content/uploads/2014/10/2902-5.jpg
END:VEVENT
END:VCALENDAR