BEGIN:VCALENDAR
VERSION:2.0
PRODID:-//Wine and Palette - ECPv5.16.4//NONSGML v1.0//EN
CALSCALE:GREGORIAN
METHOD:PUBLISH
X-ORIGINAL-URL:https://wineandpalette.com
X-WR-CALDESC:Events for Wine and Palette
REFRESH-INTERVAL;VALUE=DURATION:PT1H
X-Robots-Tag:noindex
X-PUBLISHED-TTL:PT1H
BEGIN:VTIMEZONE
TZID:America/Chicago
BEGIN:DAYLIGHT
TZOFFSETFROM:-0600
TZOFFSETTO:-0500
TZNAME:CDT
DTSTART:20230312T080000
END:DAYLIGHT
BEGIN:STANDARD
TZOFFSETFROM:-0500
TZOFFSETTO:-0600
TZNAME:CST
DTSTART:20231105T070000
END:STANDARD
END:VTIMEZONE
BEGIN:VEVENT
DTSTART;TZID=America/Chicago:20231103T183000
DTEND;TZID=America/Chicago:20231103T203000
DTSTAMP:20260425T052853
CREATED:20230105T013846Z
LAST-MODIFIED:20231019T163723Z
UID:200585-1699036200-1699043400@wineandpalette.com
SUMMARY:Cross Stitch Snowman
DESCRIPTION:Fundraiser for the Mustang Dog Park! Proceeds benefit Dog Park Improvements! (11×14 wrapped canvas) Light snacks included. Registered guests are allowed to bring food & drinks in. Discount coupons not valid for this event. Price is per person/canvas.
URL:https://wineandpalette.com/event/cross-stitch-snowman/
LOCATION:Mustang Recreation Center\, 1201 N Mustang Rd\, Mustang\, Oklahoma\, 73064
ATTACH;FMTTYPE=image/jpeg:https://wineandpalette.com/content/uploads/2014/12/3045-5.jpg
END:VEVENT
BEGIN:VEVENT
DTSTART;TZID=America/Chicago:20231104T180000
DTEND;TZID=America/Chicago:20231104T200000
DTSTAMP:20260425T052853
CREATED:20231017T194428Z
LAST-MODIFIED:20231017T194430Z
UID:206479-1699120800-1699128000@wineandpalette.com
SUMMARY:Night Port
DESCRIPTION:Bill’s Steakhouse and Saloon serves hand cut steaks\, fresh ground burgers\, hand breaded catfish\, hand breaded Chicken Fried Steaks\, and ice cold beer (as well as a full bar)! Happy Hour From 4PM – 9PM $2 Domestic Draft\, $2 Domestic Bottles\, stay after class and take advantage of their half price Appetizers at the bar!! (16×20 wrapped canvas)
URL:https://wineandpalette.com/event/night-port-2/
LOCATION:Bill’s Steakhouse & Saloon\, 1013 SW 89th St\, Oklahoma City\, OK\, 73139
ATTACH;FMTTYPE=image/jpeg:https://wineandpalette.com/content/uploads/2023/03/49NightPort-scaled.jpeg
END:VEVENT
BEGIN:VEVENT
DTSTART;TZID=America/Chicago:20231107T180000
DTEND;TZID=America/Chicago:20231107T200000
DTSTAMP:20260425T052853
CREATED:20231017T194636Z
LAST-MODIFIED:20231017T201335Z
UID:206482-1699380000-1699387200@wineandpalette.com
SUMMARY:Long Fall Shadows
DESCRIPTION:Bill’s Steakhouse and Saloon serves hand cut steaks\, fresh ground burgers\, hand breaded catfish\, hand breaded Chicken Fried Steaks\, and ice cold beer (as well as a full bar)! Happy Hour From 4PM – 9PM $2 Domestic Draft\, $2 Domestic Bottles\, stay after class and take advantage of their half price Appetizers at the bar!! (16×20 wrapped canvas)
URL:https://wineandpalette.com/event/long-fall-shadows/
LOCATION:Bill’s Steakhouse & Saloon\, 1013 SW 89th St\, Oklahoma City\, OK\, 73139
ATTACH;FMTTYPE=image/jpeg:https://wineandpalette.com/content/uploads/2014/09/2778-5.jpg
END:VEVENT
BEGIN:VEVENT
DTSTART;TZID=America/Chicago:20231111T150000
DTEND;TZID=America/Chicago:20231111T170000
DTSTAMP:20260425T052853
CREATED:20231017T195526Z
LAST-MODIFIED:20231027T174043Z
UID:206487-1699714800-1699722000@wineandpalette.com
SUMMARY:Autumn by the Beach
DESCRIPTION:Bill’s Steakhouse and Saloon serves hand cut steaks\, fresh ground burgers\, hand breaded catfish\, hand breaded Chicken Fried Steaks\, and ice cold beer (as well as a full bar)! Happy Hour From 4PM – 9PM $2 Domestic Draft\, $2 Domestic Bottles\, stay after class and take advantage of their half price Appetizers at the bar!! (16×20 wrapped canvas)
URL:https://wineandpalette.com/event/autumn-by-the-beach-3/
LOCATION:Bill’s Steakhouse & Saloon\, 1013 SW 89th St\, Oklahoma City\, OK\, 73139
ATTACH;FMTTYPE=image/jpeg:https://wineandpalette.com/content/uploads/2014/09/2826-5.jpg
END:VEVENT
BEGIN:VEVENT
DTSTART;TZID=America/Chicago:20231112T160000
DTEND;TZID=America/Chicago:20231112T180000
DTSTAMP:20260425T052853
CREATED:20231017T202218Z
LAST-MODIFIED:20231018T010347Z
UID:206493-1699804800-1699812000@wineandpalette.com
SUMMARY:Dirty Pour – A Fluid Art Paint Pouring Experience!
DESCRIPTION:Beginners Abstract Dirty Pour Technique in Acrylic on 9×12 wrapped canvas. What’s a Dirty Pour? It’s simply a term for mixing more than one paint color in same container with a magic cell creating ingredient before adding or pouring it onto the canvas. We will have all complimentary colors in paint available with some metallics for a special end effect! Come get bit at The Flea by the painting bug! *MUST BE 21+*. (Photo shows 6 examples\, price is per canvas/person) Coupons/Discounts not valid.
URL:https://wineandpalette.com/event/dirty-pour-16/
LOCATION:The Flea\, 733 NW 4th St\, Oklahoma City\, OK\, 73102
ATTACH;FMTTYPE=image/jpeg:https://wineandpalette.com/content/uploads/2019/06/4727-5.jpg
END:VEVENT
BEGIN:VEVENT
DTSTART;TZID=America/Chicago:20231114T180000
DTEND;TZID=America/Chicago:20231114T200000
DTSTAMP:20260425T052853
CREATED:20231018T221915Z
LAST-MODIFIED:20231018T221917Z
UID:206527-1699984800-1699992000@wineandpalette.com
SUMMARY:Painted Wine Bottle Lamps
DESCRIPTION:Create a one of a kind wine bottle lamp / night light. All supplies to create / design the bottle you choose are included\, with a glass of wine to sip on too! All will get to create their own designs. We will have some samples for inspiration with artists on hand to assist. Choice of empty wine bottle with battery powered cork LED lights. The Flower Shop Winery offers wine tastings as well as craft beer and pizza. Please visit flowershopwinery.com for more winery info.
URL:https://wineandpalette.com/event/painted-wine-bottle-lamps-2/
LOCATION:The Flower Shop Winery ~ Yukon\, 629 W Main St\, Yukon\, OK\, 73099
ATTACH;FMTTYPE=image/png:https://wineandpalette.com/content/uploads/2023/10/wine-bottles-fall-christmas.png
END:VEVENT
BEGIN:VEVENT
DTSTART;TZID=America/Chicago:20231117T183000
DTEND;TZID=America/Chicago:20231117T203000
DTSTAMP:20260425T052853
CREATED:20230105T022932Z
LAST-MODIFIED:20231017T201213Z
UID:200589-1700245800-1700253000@wineandpalette.com
SUMMARY:Snowy Globe Snowman
DESCRIPTION:Fundraiser for the Mustang Dog Park! Proceeds benefit Dog Park Improvements! (11×14 wrapped canvas) Light snacks included. Registered guests are allowed to bring food & drinks in. Discount coupons not valid for this event. Price is per person/canvas.
URL:https://wineandpalette.com/event/snowy-globe-snowman/
LOCATION:Mustang Recreation Center\, 1201 N Mustang Rd\, Mustang\, Oklahoma\, 73064
ATTACH;FMTTYPE=image/jpeg:https://wineandpalette.com/content/uploads/2014/11/3012-5.jpg
END:VEVENT
BEGIN:VEVENT
DTSTART;TZID=America/Chicago:20231118T180000
DTEND;TZID=America/Chicago:20231118T200000
DTSTAMP:20260425T052853
CREATED:20231018T003244Z
LAST-MODIFIED:20231018T003245Z
UID:206503-1700330400-1700337600@wineandpalette.com
SUMMARY:Written in the Stars OKC - Date Night
DESCRIPTION:Date Night Class! Image can be painted across two canvases or all on one! \nBill’s Steakhouse and Saloon serves hand cut steaks\, fresh ground burgers\, hand breaded catfish\, hand breaded Chicken Fried Steaks\, and ice cold beer (as well as a full bar)! Happy Hour From 4PM – 9PM $2 Domestic Draft\, $2 Domestic Bottles\, stay after class and take advantage of their half price Appetizers at the bar!! (16×20 wrapped canvas) Price is per person/canvas.
URL:https://wineandpalette.com/event/written-in-the-stars-okc-date-night/
LOCATION:Bill’s Steakhouse & Saloon\, 1013 SW 89th St\, Oklahoma City\, OK\, 73139
ATTACH;FMTTYPE=image/jpeg:https://wineandpalette.com/content/uploads/2021/01/4931-5.jpg
END:VEVENT
BEGIN:VEVENT
DTSTART;TZID=America/Chicago:20231121T183000
DTEND;TZID=America/Chicago:20231121T203000
DTSTAMP:20260425T052853
CREATED:20231018T003700Z
LAST-MODIFIED:20231018T003703Z
UID:206506-1700591400-1700598600@wineandpalette.com
SUMMARY:Winter Cardinal
DESCRIPTION:Othello’s is a family owned Italian restaurant offering casual dining in a family atmosphere. They serve great pasta\, pizza\, & seafood at affordable prices. You have to try the Coconut Cream Pie! Full bar available. Daily menu specials. visit Othellos.us for more info. We will be painting in the bar area.
URL:https://wineandpalette.com/event/winter-cardinal-2/
LOCATION:Othello’s Italian Restaurant\, 434 Buchanan Ave\, Norman\, OK\, 73069
ATTACH;FMTTYPE=image/jpeg:https://wineandpalette.com/content/uploads/2015/11/3871-5.jpg
END:VEVENT
BEGIN:VEVENT
DTSTART;TZID=America/Chicago:20231125T150000
DTEND;TZID=America/Chicago:20231125T170000
DTSTAMP:20260425T052853
CREATED:20231018T004753Z
LAST-MODIFIED:20231018T004754Z
UID:206512-1700924400-1700931600@wineandpalette.com
SUMMARY:Christmas Tree Wonderland
DESCRIPTION:Bill’s Steakhouse and Saloon serves hand cut steaks\, fresh ground burgers\, hand breaded catfish\, hand breaded Chicken Fried Steaks\, and ice cold beer (as well as a full bar)! Happy Hour From 4PM – 9PM $2 Domestic Draft\, $2 Domestic Bottles\, stay after class and take advantage of their half price Appetizers at the bar!! (16×20 wrapped canvas)
URL:https://wineandpalette.com/event/christmas-tree-wonderland/
LOCATION:Bill’s Steakhouse & Saloon\, 1013 SW 89th St\, Oklahoma City\, OK\, 73139
ATTACH;FMTTYPE=image/jpeg:https://wineandpalette.com/content/uploads/2012/10/818-5.jpg
END:VEVENT
BEGIN:VEVENT
DTSTART;TZID=America/Chicago:20231125T180000
DTEND;TZID=America/Chicago:20231125T200000
DTSTAMP:20260425T052853
CREATED:20231018T223046Z
LAST-MODIFIED:20231018T223047Z
UID:206531-1700935200-1700942400@wineandpalette.com
SUMMARY:Winter
DESCRIPTION:Bill’s Steakhouse and Saloon serves hand cut steaks\, fresh ground burgers\, hand breaded catfish\, hand breaded Chicken Fried Steaks\, and ice cold beer (as well as a full bar)! Happy Hour From 4PM – 9PM $2 Domestic Draft\, $2 Domestic Bottles\, stay after class and take advantage of their half price Appetizers at the bar!! (16×20 wrapped canvas)
URL:https://wineandpalette.com/event/winter-6/
LOCATION:Bill’s Steakhouse & Saloon\, 1013 SW 89th St\, Oklahoma City\, OK\, 73139
ATTACH;FMTTYPE=image/jpeg:https://wineandpalette.com/content/uploads/2019/11/4800-5.jpg
END:VEVENT
BEGIN:VEVENT
DTSTART;TZID=America/Chicago:20231126T140000
DTEND;TZID=America/Chicago:20231126T160000
DTSTAMP:20260425T052853
CREATED:20231020T030008Z
LAST-MODIFIED:20231125T184633Z
UID:206547-1701007200-1701014400@wineandpalette.com
SUMMARY:Winter Wandering
DESCRIPTION:Painting party on the covered patio at Fassler Hall OKC! A German-inspired beer hall located in OKC’s Midtown neighborhood. Enjoy homemade sausage\, German beer and their expansive beer garden. (16×20 wrapped canvas). Please visit fasslerhall.com for more info.
URL:https://wineandpalette.com/event/winter-wandering-6/
LOCATION:Fassler Hall OKC\, 421 NW 10th Street\, Oklahoma City\, OK\, 73103\, United States
ATTACH;FMTTYPE=image/jpeg:https://wineandpalette.com/content/uploads/2014/10/2871-5.jpg
END:VEVENT
BEGIN:VEVENT
DTSTART;TZID=America/Chicago:20231126T140000
DTEND;TZID=America/Chicago:20231126T170000
DTSTAMP:20260425T052853
CREATED:20231013T132955Z
LAST-MODIFIED:20231121T165402Z
UID:206376-1701007200-1701018000@wineandpalette.com
SUMMARY:DIY Pet Portraits!
DESCRIPTION:DIY Pet Portraits! Submit a HIGH RESOLUTION photo of your pet and we will sketch it out on a 16×20 canvas for you to paint! Artists on hand to assist. Submit your JPEG photo to pets@wineandpalette.com no later than 11/21/2023. Limit ONE PET per photo/canvas. Discount coupons are not valid for this event. One week refund cancellation policy. Crossed Cannons Brewery is veteran-owned serving an assortment of handcrafted brews. One half price 12oz beer pour for each participant included\, choose from any beer available on tap! (for those 21) No food service available. Guests may bring in food\, no outside drinks permitted.
URL:https://wineandpalette.com/event/diy-pet-portraits-48/
LOCATION:Crossed Cannons Brewery\, 333 W. Boyd St. Suite 120\, Norman\, OK\, 73069\, United States
ATTACH;FMTTYPE=image/jpeg:https://wineandpalette.com/content/uploads/2017/12/4452-5.jpg
END:VEVENT
BEGIN:VEVENT
DTSTART;TZID=America/Chicago:20231129T180000
DTEND;TZID=America/Chicago:20231129T200000
DTSTAMP:20260425T052853
CREATED:20231018T005553Z
LAST-MODIFIED:20231018T005555Z
UID:206515-1701280800-1701288000@wineandpalette.com
SUMMARY:Dreaming of a White Christmas
DESCRIPTION:Bill’s Steakhouse and Saloon serves hand cut steaks\, fresh ground burgers\, hand breaded catfish\, hand breaded Chicken Fried Steaks\, and ice cold beer (as well as a full bar)! Happy Hour From 4PM – 9PM $2 Domestic Draft\, $2 Domestic Bottles\, stay after class and take advantage of their half price Appetizers at the bar!! (16×20 wrapped canvas)
URL:https://wineandpalette.com/event/dreaming-of-a-white-christmas-2/
LOCATION:Bill’s Steakhouse & Saloon\, 1013 SW 89th St\, Oklahoma City\, OK\, 73139
ATTACH;FMTTYPE=image/jpeg:https://wineandpalette.com/content/uploads/2013/10/1796-5.jpg
END:VEVENT
END:VCALENDAR