BEGIN:VCALENDAR
VERSION:2.0
PRODID:-//Wine and Palette - ECPv5.16.4//NONSGML v1.0//EN
CALSCALE:GREGORIAN
METHOD:PUBLISH
X-WR-CALNAME:Wine and Palette
X-ORIGINAL-URL:https://wineandpalette.com
X-WR-CALDESC:Events for Wine and Palette
REFRESH-INTERVAL;VALUE=DURATION:PT1H
X-Robots-Tag:noindex
X-PUBLISHED-TTL:PT1H
BEGIN:VTIMEZONE
TZID:America/Chicago
BEGIN:DAYLIGHT
TZOFFSETFROM:-0600
TZOFFSETTO:-0500
TZNAME:CDT
DTSTART:20240310T080000
END:DAYLIGHT
BEGIN:STANDARD
TZOFFSETFROM:-0500
TZOFFSETTO:-0600
TZNAME:CST
DTSTART:20241103T070000
END:STANDARD
END:VTIMEZONE
BEGIN:VEVENT
DTSTART;TZID=America/Chicago:20240106T150000
DTEND;TZID=America/Chicago:20240106T170000
DTSTAMP:20260423T034538
CREATED:20231219T040006Z
LAST-MODIFIED:20231219T212538Z
UID:207719-1704553200-1704560400@wineandpalette.com
SUMMARY:Winter Wine Bottle Lamps
DESCRIPTION:Create a one of a kind painted Winter wine bottle lamp. All supplies to create and design the bottle you choose are included. All will get to create their own designs. We will have some samples for inspiration with artists on hand to assist. Choice of empty wine bottle with battery powered cork LED lights. Price is per person/bottle. Bill’s Steakhouse & Saloon serves hand cut steaks\, fresh ground burgers\, hand breaded catfish\, hand breaded Chicken Fried Steaks\, and ice cold beer (as well as a full bar)! Happy Hour From 4PM – 9PM $2 Domestic Draft\, $2 Domestic Bottles\, stay after class and take advantage of their half price Appetizers at the bar!! Coupons/Discounts not valid for this event.
URL:https://wineandpalette.com/event/winter-wine-bottle-lamps/
LOCATION:Bill’s Steakhouse & Saloon\, 1013 SW 89th St\, Oklahoma City\, OK\, 73139
ATTACH;FMTTYPE=image/jpeg:https://wineandpalette.com/content/uploads/2023/12/IMG_6220.jpeg
END:VEVENT
BEGIN:VEVENT
DTSTART;TZID=America/Chicago:20240113T180000
DTEND;TZID=America/Chicago:20240113T200000
DTSTAMP:20260423T034538
CREATED:20231217T181500Z
LAST-MODIFIED:20231217T181503Z
UID:207681-1705168800-1705176000@wineandpalette.com
SUMMARY:Chilly Wine Pals
DESCRIPTION:Bill’s Steakhouse and Saloon serves hand cut steaks\, fresh ground burgers\, hand breaded catfish\, hand breaded Chicken Fried Steaks\, and ice cold beer (as well as a full bar)! Happy Hour From 4PM – 9PM $2 Domestic Draft\, $2 Domestic Bottles\, stay after class and take advantage of their half price Appetizers at the bar!! (16×20 wrapped canvas)
URL:https://wineandpalette.com/event/chilly-wine-pals-2/
LOCATION:Bill’s Steakhouse & Saloon\, 1013 SW 89th St\, Oklahoma City\, OK\, 73139
ATTACH;FMTTYPE=image/jpeg:https://wineandpalette.com/content/uploads/2021/12/5067-8.jpg
END:VEVENT
BEGIN:VEVENT
DTSTART;TZID=America/Chicago:20240114T140000
DTEND;TZID=America/Chicago:20240114T170000
DTSTAMP:20260423T034538
CREATED:20231129T202932Z
LAST-MODIFIED:20231129T234955Z
UID:207420-1705240800-1705251600@wineandpalette.com
SUMMARY:DIY Pet Portraits!
DESCRIPTION:DIY Pet Portraits! Submit a HIGH RESOLUTION photo of your pet and we will sketch it out on a 16×20 canvas for you to paint! Artists on hand to assist. Submit your JPEG photo to pets@wineandpalette.com no later than 1/8/2024. Limit ONE PET per photo/canvas. Discount coupons are not valid for this event. One week refund cancellation policy. Crossed Cannons Brewery is veteran-owned serving an assortment of handcrafted brews. One half price 12oz beer pour for each participant included\, choose from any beer available on tap! (for those 21) No food service available. Guests may bring in food\, no outside drinks permitted.
URL:https://wineandpalette.com/event/diy-pet-portraits-49/
LOCATION:Crossed Cannons Brewery\, 333 W. Boyd St. Suite 120\, Norman\, OK\, 73069\, United States
ATTACH;FMTTYPE=image/jpeg:https://wineandpalette.com/content/uploads/2017/12/4452-5.jpg
END:VEVENT
BEGIN:VEVENT
DTSTART;TZID=America/Chicago:20240121T140000
DTEND;TZID=America/Chicago:20240121T160000
DTSTAMP:20260423T034538
CREATED:20231219T212444Z
LAST-MODIFIED:20240108T003900Z
UID:207731-1705845600-1705852800@wineandpalette.com
SUMMARY:Misty Mountain Pass
DESCRIPTION:Painting party on the covered patio (with an indoor back-up plan if needed) at Fassler Hall OKC!  A German-inspired beer hall located in OKC’s Midtown neighborhood. Enjoy homemade sausage\, German beer and their expansive beer garden. (16×20 wrapped canvas). Please visit fasslerhall.com for more info.
URL:https://wineandpalette.com/event/misty-mountain-pass/
LOCATION:Fassler Hall OKC\, 421 NW 10th Street\, Oklahoma City\, OK\, 73103\, United States
ATTACH;FMTTYPE=image/jpeg:https://wineandpalette.com/content/uploads/2015/01/3118-5.jpg
END:VEVENT
BEGIN:VEVENT
DTSTART;TZID=America/Chicago:20240123T180000
DTEND;TZID=America/Chicago:20240123T200000
DTSTAMP:20260423T034538
CREATED:20231219T183546Z
LAST-MODIFIED:20240122T224450Z
UID:207725-1706032800-1706040000@wineandpalette.com
SUMMARY:Candle Painting with Wax
DESCRIPTION:Join us for our newest class painting candles with candle wax! Intricately design and paint your own candle! (which may turn out to be to pretty to burn). We will provide inspiration to assist with own designs\, one 3×6 white pillar candle\, a rainbow of colored tea light candles to melt and paint with\, brushes\, etc.\, and a glass of wine to help\, creatively of course! (for those 21). Discount coupons not valid for this event. The Flower Shop Winery offers wine tastings as well as craft beer and pizza. Please visit flowershopwinery.com for more info.
URL:https://wineandpalette.com/event/candle-painting-with-wax-2/
LOCATION:The Flower Shop Winery ~ Yukon\, 629 W Main St\, Yukon\, OK\, 73099
ATTACH;FMTTYPE=image/jpeg:https://wineandpalette.com/content/uploads/2023/06/00Candle-Painting-with-Wax-scaled.jpg
END:VEVENT
BEGIN:VEVENT
DTSTART;TZID=America/Chicago:20240127T180000
DTEND;TZID=America/Chicago:20240127T200000
DTSTAMP:20260423T034538
CREATED:20231219T010708Z
LAST-MODIFIED:20240127T214308Z
UID:207712-1706378400-1706385600@wineandpalette.com
SUMMARY:Twinkling Stars at Dusk - Date Night
DESCRIPTION:Date Night Class! Image can be painted across two canvases or all on one! \nBill’s Steakhouse and Saloon serves hand cut steaks\, fresh ground burgers\, hand breaded catfish\, hand breaded Chicken Fried Steaks\, and ice cold beer (as well as a full bar)! Happy Hour From 4PM – 9PM $2 Domestic Draft\, $2 Domestic Bottles\, stay after class and take advantage of their half price Appetizers at the bar!! (16×20 wrapped canvas) Price is per person/canvas.
URL:https://wineandpalette.com/event/twinkling-stars-at-dusk-date-night/
LOCATION:Bill’s Steakhouse & Saloon\, 1013 SW 89th St\, Oklahoma City\, OK\, 73139
ATTACH;FMTTYPE=image/jpeg:https://wineandpalette.com/content/uploads/2013/03/1192-5.jpg
END:VEVENT
BEGIN:VEVENT
DTSTART;TZID=America/Chicago:20240128T130000
DTEND;TZID=America/Chicago:20240128T150000
DTSTAMP:20260423T034538
CREATED:20240111T022051Z
LAST-MODIFIED:20240111T022051Z
UID:208022-1706446800-1706454000@wineandpalette.com
SUMMARY:Baby Yiddle
DESCRIPTION:Family Class! All ages are welcome! \nBill’s Steakhouse & Saloon serves hand cut steaks\, fresh ground burgers\, hand breaded catfish\, hand breaded Chicken Fried Steaks\, and ice cold beer (as well as a full bar)! Happy Hour From 4PM – 9PM $2 Domestic Draft\, $2 Domestic Bottles\, stay after class and take advantage of their half price Appetizers at the bar!! (11×14 wrapped canvas) Price is per person/canvas. Kids menu also available. Please visit their website for more info billssteakhouseandsaloon.com
URL:https://wineandpalette.com/event/baby-yiddle-3/
LOCATION:Bill’s Steakhouse & Saloon\, 1013 SW 89th St\, Oklahoma City\, OK\, 73139
ATTACH;FMTTYPE=image/jpeg:https://wineandpalette.com/content/uploads/2020/03/4847-5.jpg
END:VEVENT
BEGIN:VEVENT
DTSTART;TZID=America/Chicago:20240129T183000
DTEND;TZID=America/Chicago:20240129T203000
DTSTAMP:20260423T034538
CREATED:20231220T012051Z
LAST-MODIFIED:20231220T012053Z
UID:207733-1706553000-1706560200@wineandpalette.com
SUMMARY:Winter Bison
DESCRIPTION:Chicken N Pickle is new indoor/outdoor entertainment complex that includes a casual\, chef-driven restaurant and sports bar that boasts pickleball courts\, & a variety of yard games. (16×20 wrapped canvas) Price is per person/canvas. We will be painting in a private room\, next to the Oklahoma bar with Okla based beer\, wine\, & spirits!
URL:https://wineandpalette.com/event/winter-bison-6/
LOCATION:Chicken N Pickle\, 8400 N Oklahoma Ave\, Oklahoma City\, OK\, 73114
ATTACH;FMTTYPE=image/jpeg:https://wineandpalette.com/content/uploads/2014/10/2902-5.jpg
END:VEVENT
BEGIN:VEVENT
DTSTART;TZID=America/Chicago:20240131T180000
DTEND;TZID=America/Chicago:20240131T200000
DTSTAMP:20260423T034538
CREATED:20231219T011840Z
LAST-MODIFIED:20231219T011842Z
UID:207715-1706724000-1706731200@wineandpalette.com
SUMMARY:Clouds - Technique Class
DESCRIPTION:Technique Class! Learn how to create Clouds! \nBill’s Steakhouse and Saloon serves hand cut steaks\, fresh ground burgers\, hand breaded catfish\, hand breaded Chicken Fried Steaks\, and ice cold beer (as well as a full bar)! Happy Hour From 4PM – 9PM $2 Domestic Draft\, $2 Domestic Bottles\, stay after class and take advantage of their half price Appetizers at the bar!! (16×20 wrapped canvas)
URL:https://wineandpalette.com/event/clouds-technique-class-2/
LOCATION:Bill’s Steakhouse & Saloon\, 1013 SW 89th St\, Oklahoma City\, OK\, 73139
ATTACH;FMTTYPE=image/jpeg:https://wineandpalette.com/content/uploads/2022/02/5084-5.jpg
END:VEVENT
END:VCALENDAR