BEGIN:VCALENDAR
VERSION:2.0
PRODID:-//Wine and Palette - ECPv5.16.4//NONSGML v1.0//EN
CALSCALE:GREGORIAN
METHOD:PUBLISH
X-ORIGINAL-URL:https://wineandpalette.com
X-WR-CALDESC:Events for Wine and Palette
REFRESH-INTERVAL;VALUE=DURATION:PT1H
X-Robots-Tag:noindex
X-PUBLISHED-TTL:PT1H
BEGIN:VTIMEZONE
TZID:America/Chicago
BEGIN:DAYLIGHT
TZOFFSETFROM:-0600
TZOFFSETTO:-0500
TZNAME:CDT
DTSTART:20240310T080000
END:DAYLIGHT
BEGIN:STANDARD
TZOFFSETFROM:-0500
TZOFFSETTO:-0600
TZNAME:CST
DTSTART:20241103T070000
END:STANDARD
END:VTIMEZONE
BEGIN:VEVENT
DTSTART;TZID=America/Chicago:20240501T180000
DTEND;TZID=America/Chicago:20240501T200000
DTSTAMP:20260420T195411
CREATED:20240324T231511Z
LAST-MODIFIED:20240417T002523Z
UID:209096-1714586400-1714593600@wineandpalette.com
SUMMARY:Wild Blooms
DESCRIPTION:Hello May! \nBill’s Steakhouse & Saloon serves hand cut steaks\, fresh ground burgers\, hand breaded catfish\, hand breaded Chicken Fried Steaks\, and ice cold beer (as well as a full bar)! Happy Hour From 4PM – 9PM $2 Domestic Draft\, $2 Domestic Bottles\, arrive before class and take advantage of their half price Appetizers at the bar!! (16×20 wrapped canvas)
URL:https://wineandpalette.com/event/wild-blooms-5/
LOCATION:Bill’s Steakhouse & Saloon\, 1013 SW 89th St\, Oklahoma City\, OK\, 73139
ATTACH;FMTTYPE=image/jpeg:https://wineandpalette.com/content/uploads/2016/05/4044-5.jpg
END:VEVENT
BEGIN:VEVENT
DTSTART;TZID=America/Chicago:20240504T140000
DTEND;TZID=America/Chicago:20240504T160000
DTSTAMP:20260420T195411
CREATED:20240409T030243Z
LAST-MODIFIED:20240416T200948Z
UID:209226-1714831200-1714838400@wineandpalette.com
SUMMARY:Wine Glass Painting
DESCRIPTION:Join us at Backyard Vineyards Winery & Tasting Room located in OKC Farmer’s Market District for a one of kind experience Wine Glass Painting! Class includes choice of glassware to paint (1 per person). All supplies to create/design the glass you choose are included\, with a glass of wine to sip on too! (must be 21+). All will get to create their own designs. We will have some samples for inspiration with artists on hand to assist. Please visit backyardvineyardsokc.com for venue info.
URL:https://wineandpalette.com/event/wine-glass-painting/
LOCATION:Backyard Vineyards\, 1200 West Reno Avenue\, Oklahoma City\, OK\, 73106\, United States
ATTACH;FMTTYPE=image/jpeg:https://wineandpalette.com/content/uploads/2016/07/4105-5.jpg
END:VEVENT
BEGIN:VEVENT
DTSTART;TZID=America/Chicago:20240504T180000
DTEND;TZID=America/Chicago:20240504T200000
DTSTAMP:20260420T195411
CREATED:20240324T235235Z
LAST-MODIFIED:20240504T140151Z
UID:209102-1714845600-1714852800@wineandpalette.com
SUMMARY:Death Starry Night
DESCRIPTION:May the 4th be with You! \nBill’s Steakhouse & Saloon serves hand cut steaks\, fresh ground burgers\, hand breaded catfish\, hand breaded Chicken Fried Steaks\, and ice cold beer (as well as a full bar)! Happy Hour From 4PM – 9PM $2 Domestic Draft\, $2 Domestic Bottles\, arrive before class and take advantage of their half price Appetizers at the bar!! (16×20 wrapped canvas)
URL:https://wineandpalette.com/event/death-starry-night-6/
LOCATION:Bill’s Steakhouse & Saloon\, 1013 SW 89th St\, Oklahoma City\, OK\, 73139
ATTACH;FMTTYPE=image/jpeg:https://wineandpalette.com/content/uploads/2017/09/4386-5.jpg
END:VEVENT
BEGIN:VEVENT
DTSTART;TZID=America/Chicago:20240505T140000
DTEND;TZID=America/Chicago:20240505T160000
DTSTAMP:20260420T195411
CREATED:20240416T015210Z
LAST-MODIFIED:20240505T165407Z
UID:209275-1714917600-1714924800@wineandpalette.com
SUMMARY:Lady Death
DESCRIPTION:Painting party on the covered patio (with an indoor back-up plan if needed) at Fassler Hall OKC!  A German-inspired beer hall located in OKC’s Midtown neighborhood. Enjoy homemade sausage\, German beer and their expansive beer garden. (16×20 wrapped canvas). Please visit fasslerhall.com for more info.
URL:https://wineandpalette.com/event/lady-death/
LOCATION:Fassler Hall OKC\, 421 NW 10th Street\, Oklahoma City\, OK\, 73103\, United States
ATTACH;FMTTYPE=image/jpeg:https://wineandpalette.com/content/uploads/2015/04/3439-5.jpg
END:VEVENT
BEGIN:VEVENT
DTSTART;TZID=America/Chicago:20240507T180000
DTEND;TZID=America/Chicago:20240507T200000
DTSTAMP:20260420T195411
CREATED:20240423T162748Z
LAST-MODIFIED:20240423T162748Z
UID:209397-1715104800-1715112000@wineandpalette.com
SUMMARY:Succulent ~ Cactus Painting & Planting Class
DESCRIPTION:Paint\, Sip & Plant at The Flower Shop Winery! Create your own personal potted cactus/ succulent just in time for Mother’s Day! Paint & personalize your terra-cotta pot to plant. Create own designs with choice of cactus & succulents to plant. Artists on hand to assist. (1 pot per person with soil\, stones\, etc.\, & choice of plants to fill). Class includes all supplies & a glass of wine to sip on! Please visit flowershopwinery.com for menu/ venue info.
URL:https://wineandpalette.com/event/succulent-cactus-painting-planting-class-10/
LOCATION:The Flower Shop Winery ~ Yukon\, 629 W Main St\, Yukon\, OK\, 73099
ATTACH;FMTTYPE=image/jpeg:https://wineandpalette.com/content/uploads/2019/08/4745-5.jpg
END:VEVENT
BEGIN:VEVENT
DTSTART;TZID=America/Chicago:20240511T090000
DTEND;TZID=America/Chicago:20240511T160000
DTSTAMP:20260420T195411
CREATED:20240409T030609Z
LAST-MODIFIED:20240416T193813Z
UID:209229-1715418000-1715443200@wineandpalette.com
SUMMARY:Oklahoma City Flower & Garden Festival
DESCRIPTION:Join us for another great OKC Flower & Garden Festival at Myriad Botanical Gardens in downtown Oklahoma City on Saturday\, May 11th\, from 9am-4pm. Shop close to 50v vendors selling locally grown botanicals\, including vibrant flowers\, aromatic herbs\, and lovely succulents locally grown. While exploring\, don’t miss the opportunity to discover unique jewelry pieces\, garden art\, and crafts from local artists. This is a free event with a beautiful setting. Located by Mo’s Carousel and the Children’s Garden\, make your way to S. Hudson Avenue between W. Reno and Sheridan Avenues for this event you won’t want to miss. Mark your calendar and let your garden dreams come to life! Visit the Wine & Palette tent for pop-in painting and create your favorite flower and decorate a terra-cotta pot or birdhouse to take home. visit oklahomacitybotanicalgardens.com for more info.
URL:https://wineandpalette.com/event/oklahoma-city-flower-garden-festival/
LOCATION:Myriad Botanical Gardens\, 301 W. Reno\, Oklahoma City\, OK\, 73102
ATTACH;FMTTYPE=image/jpeg:https://wineandpalette.com/content/uploads/2024/04/2024-OKC-Flower-Garden-Festival-768x768-1.jpeg
END:VEVENT
BEGIN:VEVENT
DTSTART;TZID=America/Chicago:20240518T180000
DTEND;TZID=America/Chicago:20240518T200000
DTSTAMP:20260420T195411
CREATED:20240417T235713Z
LAST-MODIFIED:20240509T194136Z
UID:209314-1716055200-1716062400@wineandpalette.com
SUMMARY:Van Gogh Starry Date Night
DESCRIPTION:May is Masters Month! During the month of May we are creating renditions of famous or Master artists works! \nDate Night Class! Choose to paint across two canvases for a Date Night\, or all on one! \nBill’s Steakhouse & Saloon serves hand cut steaks\, fresh ground burgers\, hand breaded catfish\, hand breaded Chicken Fried Steaks\, and ice cold beer (as well as a full bar)! Happy Hour From 4PM – 9PM $2 Domestic Draft\, $2 Domestic Bottles\, arrive before class and take advantage of their half price Appetizers at the bar!! (16×20 wrapped canvas) Price is per person/canvas
URL:https://wineandpalette.com/event/van-gogh-starry-date-night-2/
LOCATION:Bill’s Steakhouse & Saloon\, 1013 SW 89th St\, Oklahoma City\, OK\, 73139
ATTACH;FMTTYPE=image/jpeg:https://wineandpalette.com/content/uploads/2012/07/604-5.jpg
END:VEVENT
BEGIN:VEVENT
DTSTART;TZID=America/Chicago:20240519T140000
DTEND;TZID=America/Chicago:20240519T170000
DTSTAMP:20260420T195411
CREATED:20240415T051308Z
LAST-MODIFIED:20240515T204159Z
UID:209271-1716127200-1716138000@wineandpalette.com
SUMMARY:DIY Pet Portraits!
DESCRIPTION:DIY Pet Portraits! Submit a HIGH RESOLUTION photo of your pet and we will sketch it out on a 16×20 canvas for you to paint! Artists on hand to assist. Submit your JPEG photo to pets@wineandpalette.com no later than 5/13/2024. Limit ONE PET per photo/canvas. Discount coupons are not valid for this event. One week refund cancellation policy. Crossed Cannons Brewery is veteran-owned serving an assortment of handcrafted brews. One half price 12oz beer pour for each participant included\, choose from any beer available on tap! (for those 21). No food service available. Guests may bring in food\, no outside drinks permitted.
URL:https://wineandpalette.com/event/diy-pet-portraits-50/
LOCATION:Crossed Cannons Brewery\, 333 W. Boyd St. Suite 120\, Norman\, OK\, 73069\, United States
ATTACH;FMTTYPE=image/jpeg:https://wineandpalette.com/content/uploads/2017/12/4452-5.jpg
END:VEVENT
BEGIN:VEVENT
DTSTART;TZID=America/Chicago:20240529T180000
DTEND;TZID=America/Chicago:20240529T200000
DTSTAMP:20260420T195411
CREATED:20240418T002050Z
LAST-MODIFIED:20240418T232310Z
UID:209328-1717005600-1717012800@wineandpalette.com
SUMMARY:Warhol Wal Flowers
DESCRIPTION:May is Masters Month! During the month of May we are creating renditions of famous or Master artists works! \nBill’s Steakhouse & Saloon serves hand cut steaks\, fresh ground burgers\, hand breaded catfish\, hand breaded Chicken Fried Steaks\, and ice cold beer (as well as a full bar)! Happy Hour From 4PM – 9PM $2 Domestic Draft\, $2 Domestic Bottles\, arrive before class and take advantage of their half price Appetizers at the bar!! (11×14 wrapped canvas)
URL:https://wineandpalette.com/event/warhol-wal-flowers/
LOCATION:Bill’s Steakhouse & Saloon\, 1013 SW 89th St\, Oklahoma City\, OK\, 73139
ATTACH;FMTTYPE=image/jpeg:https://wineandpalette.com/content/uploads/2011/10/186-5.jpg
END:VEVENT
BEGIN:VEVENT
DTSTART;TZID=America/Chicago:20240530T180000
DTEND;TZID=America/Chicago:20240530T200000
DTSTAMP:20260420T195411
CREATED:20240418T003304Z
LAST-MODIFIED:20240418T232203Z
UID:209337-1717092000-1717099200@wineandpalette.com
SUMMARY:Van Gogh Night Cafe
DESCRIPTION:May is Masters Month! During the month of May we are creating renditions of famous or Master artists works! \nWhen you visit Venezia Italian Ristorante\, you’re in for a treat. Relaxed family friendly atmosphere\, wonderful food\, and generous portions. They carry a wide variety of menu items and a great wine list that will suit anyone’s taste. Experience their fresh seafood\, Homemade Pastas\, House Specialties\, New York Style Pizza or any of their other mouthwatering dishes. (16×20 wrapped canvas).
URL:https://wineandpalette.com/event/van-gogh-night-cafe/
LOCATION:Venezia Italian Ristorante – MWC/Del City\, 201 S Sooner Rd\, MWC / Del City\, OK\, 73110\, United States
ATTACH;FMTTYPE=image/jpeg:https://wineandpalette.com/content/uploads/2013/04/1249-5.jpg
END:VEVENT
BEGIN:VEVENT
DTSTART;TZID=America/Chicago:20240531T180000
DTEND;TZID=America/Chicago:20240531T200000
DTSTAMP:20260420T195411
CREATED:20240419T210052Z
LAST-MODIFIED:20240519T225202Z
UID:209372-1717178400-1717185600@wineandpalette.com
SUMMARY:Alpaca Succulent ~ Cactus Painting & Planting Class
DESCRIPTION:Paint\, Sip & Plant WITH Alpacas! Create your own personal potted cactus/ succulent while you hang out with Alpacas! Paint & personalize your terra-cotta pot to plant. Create own designs with choice of cactus & succulents to plant. Artists on hand to assist. (1 pot per person with soil\, stones\, etc.\, a wood alpaca plant stake\, & choice of plants to fill). Class includes all supplies and a glass of wine to sip on for those 21. Additional beverages sold separately. Non-alcoholic beverage available. Carrots/treats provided for Alpacas. Visit our FB pages for more info and details: Magnolia Blossom Ranch or Wine & Palette.
URL:https://wineandpalette.com/event/alpaca-succulent-cactus-painting-planting-class-2/
LOCATION:Magnolia Blossom Ranch – Newcastle\, 2901 NW 16th St\, Newcastle\, OK\, 73065
ATTACH;FMTTYPE=image/jpeg:https://wineandpalette.com/content/uploads/2021/05/4971-5.jpg
END:VEVENT
END:VCALENDAR